BEGIN:VCALENDAR
VERSION:2.0
PRODID:-//City of Bethlehem - ECPv6.15.20//NONSGML v1.0//EN
CALSCALE:GREGORIAN
METHOD:PUBLISH
X-ORIGINAL-URL:https://www.bethlehempa.org
X-WR-CALDESC:Events for City of Bethlehem
REFRESH-INTERVAL;VALUE=DURATION:PT1H
X-Robots-Tag:noindex
X-PUBLISHED-TTL:PT1H
BEGIN:VTIMEZONE
TZID:America/New_York
BEGIN:DAYLIGHT
TZOFFSETFROM:-0500
TZOFFSETTO:-0400
TZNAME:EDT
DTSTART:20230312T070000
END:DAYLIGHT
BEGIN:STANDARD
TZOFFSETFROM:-0400
TZOFFSETTO:-0500
TZNAME:EST
DTSTART:20231105T060000
END:STANDARD
BEGIN:DAYLIGHT
TZOFFSETFROM:-0500
TZOFFSETTO:-0400
TZNAME:EDT
DTSTART:20240310T070000
END:DAYLIGHT
BEGIN:STANDARD
TZOFFSETFROM:-0400
TZOFFSETTO:-0500
TZNAME:EST
DTSTART:20241103T060000
END:STANDARD
BEGIN:DAYLIGHT
TZOFFSETFROM:-0500
TZOFFSETTO:-0400
TZNAME:EDT
DTSTART:20250309T070000
END:DAYLIGHT
BEGIN:STANDARD
TZOFFSETFROM:-0400
TZOFFSETTO:-0500
TZNAME:EST
DTSTART:20251102T060000
END:STANDARD
BEGIN:DAYLIGHT
TZOFFSETFROM:-0500
TZOFFSETTO:-0400
TZNAME:EDT
DTSTART:20260308T070000
END:DAYLIGHT
BEGIN:STANDARD
TZOFFSETFROM:-0400
TZOFFSETTO:-0500
TZNAME:EST
DTSTART:20261101T060000
END:STANDARD
END:VTIMEZONE
BEGIN:VEVENT
DTSTART;TZID=America/New_York:20241111T090000
DTEND;TZID=America/New_York:20251201T150000
DTSTAMP:20260423T095745
CREATED:20241102T002711Z
LAST-MODIFIED:20241102T002711Z
UID:10000619-1731315600-1764601200@www.bethlehempa.org
SUMMARY:"Bridging Bethlehem: 100 Years of the Hill to Hill" Exhibition
DESCRIPTION:Bridging Bethlehem: 100 Years of the Hill to Hill chronicles the evolution of bridge-building in Bethlehem\, PA culminating in the construction of the Hill to Hill Bridge\, highlighting the cultural and social impact these structures have had on the city and its residents. Through photographs\, rare documents\, personal accounts\, and media\, the history and pursuit of river crossings in Bethlehem comes to life. \nGallery hours: Monday-Friday\, 9am – 3pm
URL:https://www.bethlehempa.org/event/bridging-bethlehem-100-years-of-the-hill-to-hill-exhibition/
LOCATION:Moravian Archives\, 41 W. Locust Street\, Bethlehem\, P\, 18018\, United States
CATEGORIES:Arts & Culture,Community Events,Special Events
ATTACH;FMTTYPE=image/jpeg:https://cdn.bethlehempa.org/wp-content/uploads/2024/11/MAB_BridgingBethlehem.jpg
ORGANIZER;CN="Moravian Archives":MAILTO:adminassist@moravianchurcharchives.org
END:VEVENT
BEGIN:VEVENT
DTSTART;TZID=America/New_York:20250326T190000
DTEND;TZID=America/New_York:20251206T220000
DTSTAMP:20260423T095745
CREATED:20250806T235019Z
LAST-MODIFIED:20251001T022021Z
UID:10004311-1743015600-1765058400@www.bethlehempa.org
SUMMARY:Holiday Dinner & Auction
DESCRIPTION:Join Historic Bethlehem Museums & Sites for a spectacular evening of delicious dining\, fabulous cocktails\, live music and auctions of original artwork and unique items.
URL:https://www.bethlehempa.org/event/holiday-dinner-auction-2/
LOCATION:SteelStacks\, 101 Founders Ct\, Bethlehem\, PA\, United States
CATEGORIES:Christmas Events
ATTACH;FMTTYPE=image/jpeg:https://cdn.bethlehempa.org/wp-content/uploads/2025/06/2024-Holiday-Dinner-and-Auction-PHoto-5ypKdM.tmp_.jpg
ORGANIZER;CN="Historic Bethlehem Museums &amp%3B Sites":MAILTO:info@historicbethlehem.org
GEO:40.669201;-75.310625
X-APPLE-STRUCTURED-LOCATION;VALUE=URI;X-ADDRESS=SteelStacks 101 Founders Ct Bethlehem PA United States;X-APPLE-RADIUS=500;X-TITLE=101 Founders Ct:geo:-75.310625,40.669201
END:VEVENT
BEGIN:VEVENT
DTSTART;TZID=America/New_York:20250401T080000
DTEND;TZID=America/New_York:20250430T170000
DTSTAMP:20260423T095745
CREATED:20250403T160725Z
LAST-MODIFIED:20250403T160725Z
UID:10001680-1743494400-1746032400@www.bethlehempa.org
SUMMARY:🌿 April Massage Giveaway – Enter to Win a Free 60-Minute Massage! 🌿
DESCRIPTION:Treat yourself to relaxation! Rockin’ Good Health\, LLC is giving away a free 60-minute massage this month. Enter for your chance to unwind\, de-stress\, and feel your best—at no cost! \n✨ No purchase necessary—just sign up!📅 Enter by April 30🔗 Sign up here: rockingoodhealth.com/massage-giveaway \nDon’t miss this opportunity to experience the benefits of massage. One lucky winner will be chosen—will it be you? 😊
URL:https://www.bethlehempa.org/event/%f0%9f%8c%bf-april-massage-giveaway-enter-to-win-a-free-60-minute-massage-%f0%9f%8c%bf/
LOCATION:PA
CATEGORIES:Merchant Events
ATTACH;FMTTYPE=image/jpeg:https://cdn.bethlehempa.org/wp-content/uploads/2025/04/April.jpg
END:VEVENT
BEGIN:VEVENT
DTSTART;TZID=America/New_York:20250406T080000
DTEND;TZID=America/New_York:20250516T160000
DTSTAMP:20260423T095745
CREATED:20250321T153258Z
LAST-MODIFIED:20250321T153258Z
UID:10001578-1743926400-1747411200@www.bethlehempa.org
SUMMARY:Printmakers Society of the Lehigh Valley exhibition\, "Regional Collective Impressions"
DESCRIPTION:The Printmakers Society of the Lehigh Valley will be exhibiting a members exhibition “Regional Collective Impressions” at the Bethlehem Town Hall Rotunda Gallery from April 6 to May 16\, 2025.  There will be an opening reception on Sunday\, April 6 from 2:00 – 4:00 PM.  The Rotunda Gallery is located at 10 E. Church Street.  Gallery hours are Monday through Friday 8:00 AM to 4:00 PM. \nThe exhibition will showcase images created using a variety of techniques and materials.  Examples of traditional fine art printmaking  methodologies are interspersed with prints that have been created using experimental methods and materials still within the context of printmaking.   \nThe Printmakers Society of the Lehigh Valley was founded in 2012 by then retired Professor Richard Redd\, former head of the Department of Art at Lehigh University and noted printmaker.  To quote Richard Redd on that occasion: “Many artists make prints in various media as a secondary creative activity to painting\, sculpture\, photography\, etc.  For other artists\, making prints is the main event\, the center ring in their creative circus.” \nThis exhibit brings together printmakers  to show a diversity of media and styles:  the spontaneity of a monotype\, or the many hours of working on a metal plate dipped in an acid bath\, or perhaps a block of linoleum cut with chisels.  Offering a intriguing and fresh look at printmaking with a continuing desire to celebrate and promote the art form and encourage a love and understanding of the various types of fine art prints being created today by artists in the Lehigh Valley. \nFor more information check out the PSLV website at www.printmakerssocietylv.com or on Facebook and Instagram https://www.instagram.com/printmakerssocietylv/ \nThe exhibition is sponsored by the Bethlehem Fine Arts Commission (www.bfac-lv.org) and the Pennsylvania Council on the Arts. \nEVENT CALENDAR:  \nBethlehem Town Hall Rotunda Gallery \n10 E. Church Street\, Bethlehem\, PA 18018  \nHours: Monday to Friday from 8:00 AM to 4:00 PM  Closed Weekends and Holidays \nPrintmakers Society of the Lehigh Valley \n“Regional Collective Impressions” \nApril 6 to May 16\, 2025 \nThe exhibit offers an intriguing and fresh look at printmaking with a continuing desire to celebrate and promote the art form and encourage a love and understanding of the various types of fine art prints being created today by artists in the Lehigh Valley. \nReception: Sunday\, April 6 from 2:00 to 4:00 PM
URL:https://www.bethlehempa.org/event/printmakers-society-of-the-lehigh-valley-exhibition-regional-collective-impressions/
LOCATION:Bethlehem Town Hall Rotunda Gallery\, 10 East Church Street\, Bethlehem\, PA\, 18018\, United States
ATTACH;FMTTYPE=image/jpeg:https://cdn.bethlehempa.org/wp-content/uploads/2025/03/PSLV-card-2.jpg
ORGANIZER;CN="Bethlehem Fine Arts Commission":MAILTO:rbegbie@rcn.com
END:VEVENT
BEGIN:VEVENT
DTSTART;TZID=America/New_York:20250412T080000
DTEND;TZID=America/New_York:20250627T170000
DTSTAMP:20260423T095745
CREATED:20250325T153103Z
LAST-MODIFIED:20250325T153103Z
UID:10001632-1744444800-1751043600@www.bethlehempa.org
SUMMARY:The Bethlehem Palette Club Juried Exhibition
DESCRIPTION:The Bethlehem Palette Club will  have their Juried Art Exhibition at the Moravian Village Art Gallery\, 562 Wood St.\, Bethlehem\, PA 18018 from April 13 through June 27.  Reception: May 31\, 2 – 4 p.m. \n.
URL:https://www.bethlehempa.org/event/the-bethlehem-palette-club-juried-exhibition-2/
LOCATION:PA
CATEGORIES:Arts & Culture
ATTACH;FMTTYPE=image/jpeg:https://cdn.bethlehempa.org/wp-content/uploads/2025/03/BPC-logo-smaller-version-color-Copy-2.jpg
END:VEVENT
BEGIN:VEVENT
DTSTART;TZID=America/New_York:20250425T100000
DTEND;TZID=America/New_York:20250426T180000
DTSTAMP:20260423T095745
CREATED:20250321T155029Z
LAST-MODIFIED:20250321T155029Z
UID:10001606-1745575200-1745690400@www.bethlehempa.org
SUMMARY:AAUW Annual Used Book Fair at the Municipal Ice Rink
DESCRIPTION:Used book sale at the Bethlehem Municipal Ice Rink\, April 25 through 28\, times vary. 1000s of books\, CDs\, DVDs\, vinyl records.  Mystery\, science fiction\, history and politics\, children and teens\, literature\, cookbooks\, home\, hobby\, gardening\, travel\, art\, photography\, collectible books and more.  (Cash or checks with ID; not credit cards. No stockpiling/hoarding of unpaid books\, please.)  Thurs April 24 is Preview Day with admission fee; Sun and Monday are discounted prices. See our website for more info:  Bethlehem-pa.aauw.net/book-fair
URL:https://www.bethlehempa.org/event/aauw-annual-used-book-fair-at-the-municipal-ice-rink/2025-04-25/
LOCATION:Bethlehem Municipal Ice Rink\, 345 Illick's Mill Road\, Bethlehem\, P\, 18017\, United States
CATEGORIES:Community Events
END:VEVENT
BEGIN:VEVENT
DTSTART;TZID=America/New_York:20250425T160000
DTEND;TZID=America/New_York:20250425T170000
DTSTAMP:20260423T095745
CREATED:20250404T135804Z
LAST-MODIFIED:20250404T135804Z
UID:10001731-1745596800-1745600400@www.bethlehempa.org
SUMMARY:Curators’ Tour: Unseen Signals
DESCRIPTION:Join IEEE curators and historians Alex Magoun and Daniel Jon Mitchell for a behind-the-scenes highlights tour of their exhibit\, “Unseen Signals: E. Howard Armstrong’s Radio Revolution” \nLearn how they obtained rare and unique artifacts to tell the story of America’s greatest radio inventor\, Major E. Howard Armstrong\, and the wireless world that he and many other researchers\, entrepreneurs\, and listeners created over the course of the 20th century. \nDr. Magoun is outreach historian for IEEE. He has published\, lectured\, and been interviewed for History’s Greatest of All Time with Peyton Manning on the histories of consumer electronics and wireless communications. Before joining IEEE’s History Center\, he directed the David Sarnoff Library at RCA’s former laboratories in Princeton. \nDr. Mitchell is senior historian for IEEE and staff program lead for the IEEE Global Museum. Originally from the UK\, he has taught\, researched and published on the history of physics in Hong Kong\, Germany\, and now America. Before joining IEEE’s History Center\, he directed the Beckman Center for the History of Chemistry at the Science History Institute in Philadelphia. \nIEEE is the world’s largest technical professional organization dedicated to advancing technology for the benefit of humanity. The IEEE Global Museum presented by the IEEE History Center brings traveling exhibits to IEEE members and the public to promote an understanding of electrotechnology and its impact on society. \nProgram includes Museum admission. Free for NMIH and IEEE Members. Registration required HERE.
URL:https://www.bethlehempa.org/event/curators-tour-unseen-signals/
LOCATION:National Museum of Industrial History\, 602 E 2nd Street\, Bethlehem\, 18015\, United States
CATEGORIES:Art & Exhibitions,Special Events,SSAD
ATTACH;FMTTYPE=image/jpeg:https://cdn.bethlehempa.org/wp-content/uploads/2025/04/UnseenPosterSignalsSMALL1-1.jpg
ORGANIZER;CN="National Museum of Industrial History":MAILTO:info@nmih.org
END:VEVENT
BEGIN:VEVENT
DTSTART;TZID=America/New_York:20250425T191500
DTEND;TZID=America/New_York:20250425T191500
DTSTAMP:20260423T095745
CREATED:20250405T040653Z
LAST-MODIFIED:20250425T055034Z
UID:10001738-1745608500-1745608500@www.bethlehempa.org
SUMMARY:Friday Night Trivia at Colony Meadery
DESCRIPTION:Join us for trivia every Friday Night at Colony Meadery South Bethlehem!\n211 E 3rd St\, Bethlehem\, PA 18015\n7:15 PM\nTrivia is hosted by the Lehigh Valley Trivia League. Registration starts at 7:15 PM and questions begin at 7:30 PM!\nPrizes offered! Enjoy beer\, mead\, and hard cider specials!
URL:https://www.bethlehempa.org/event/friday-night-trivia-at-colony-meadery-25/
LOCATION:Colony Meadery South Bethlehem\, 211 E 3rd St\, Bethlehem\, PA\, United States
ATTACH;FMTTYPE=image/jpeg:https://cdn.bethlehempa.org/wp-content/uploads/2024/11/Snapinsta.app_459652749_1073597784766252_9047295196356135990_n_1080-e1731001172576-lmO2Eb.tmp_.jpg
ORGANIZER;CN="Colony Meadery South Bethlehem":MAILTO:info@thecolonymeadery.com
GEO:40.6121;-75.375791
X-APPLE-STRUCTURED-LOCATION;VALUE=URI;X-ADDRESS=Colony Meadery South Bethlehem 211 E 3rd St Bethlehem PA United States;X-APPLE-RADIUS=500;X-TITLE=211 E 3rd St:geo:-75.375791,40.6121
END:VEVENT
BEGIN:VEVENT
DTSTART;TZID=America/New_York:20250425T193000
DTEND;TZID=America/New_York:20250425T213000
DTSTAMP:20260423T095745
CREATED:20250314T145345Z
LAST-MODIFIED:20250314T145345Z
UID:10001564-1745609400-1745616600@www.bethlehempa.org
SUMMARY:Lehigh University Philharmonic: Concerto Marathon!
DESCRIPTION:Come enjoy a heartwarming and exciting night at the symphony\, as Lehigh Philharmonic student soloists perform concerto movements! The entire orchestra will play together for our stirring season finale\, featuring Symphony No. 4 by Tchaikovsky. Kyle Wernke\, director.
URL:https://www.bethlehempa.org/event/lehigh-university-philharmonic-concerto-marathon/2025-04-25/
LOCATION:Zoellner Arts Center\, 420 E Packer Ave\, Bethlehem\, PA\, United States
CATEGORIES:Live Music
ATTACH;FMTTYPE=image/jpeg:https://cdn.bethlehempa.org/wp-content/uploads/2025/03/MD_Apr25_26_LUPhil_Concerto_Marathon.jpg
ORGANIZER;CN="Zoellner Arts Center":MAILTO:inzactix@lehigh.edu
GEO:40.608813;-75.372456
X-APPLE-STRUCTURED-LOCATION;VALUE=URI;X-ADDRESS=Zoellner Arts Center 420 E Packer Ave Bethlehem PA United States;X-APPLE-RADIUS=500;X-TITLE=420 E Packer Ave:geo:-75.372456,40.608813
END:VEVENT
BEGIN:VEVENT
DTSTART;TZID=America/New_York:20250425T200000
DTEND;TZID=America/New_York:20250425T200000
DTSTAMP:20260423T095745
CREATED:20250418T050558Z
LAST-MODIFIED:20250425T055035Z
UID:10002030-1745611200-1745611200@www.bethlehempa.org
SUMMARY:Friday Evening Show & Saturday Morning Songwriting Workshop: Amelia White & Linda McRae – The Nashville Twisters Co-Bill Blending Raw Storytelling\, Folk Grit\, and Rock Energy!
DESCRIPTION:FRIDAY\, APRIL 25 • 8PM AND SATURDAY\, APRIL 26 • 9:30AM\nAmelia White & Linda McRae – The Nashville Twisters Co-Bill Blending Raw Storytelling\, Folk Grit\, and Rock Energy! Friday Evening Show & Saturday Morning Songwriting Workshop\nFRIDAY SHOW: $21.50 ADVANCE | $26.50 DAY OF SHOW • SONGWRITING WORKSHOP: $75 ADVANCE | $80.00 DAY OF WORKSHOP • SHOW & WORKSHOP COMBINATION TICKET: $80 (Until April 25)\nhttps://godfreydaniels.org/event/amelia-white-and-linda-mcrae-co-bill-show-songwriting-workshop-april-25-and-26-2025/\nA Night of Song with the Nashville Twisters Amelia White & Linda McRae; then a “Stuff that Works” Songwriting Workshop in the morning!\nAmelia White and Linda McRae bring their Nashville Twisters Co-Bill Tour to Godfrey Daniels for an unforgettable night of raw\, heartfelt storytelling through folk\, rock\, and Americana. Amelia’s evocative songwriting and an East Nashville edge blend seamlessly with Linda’s deep-rooted\, soul-stirring vocals and multi-instrumental mastery. Then\, on April 26\, they invite you to their “Stuff That Works” Songwriting Workshop—a creative space to spark inspiration\, refine your craft\, and find new song ideas. Whether you’re soaking in their live performance or joining the workshop\, this is a weekend of music and creativity you don’t want to miss!\n“Stuff That Works” Songwriting Workshop with the Nashville Twisters!\nSaturday\, April 26 | 9:30 AM – 12:30PM\nSong inspiration is everywhere—we just have to listen and catch it. In this Saturday morning workshop\, we’ll explore a variety of tips and tricks to get your creativity flowing again. Let’s learn from each other and create an inspiring\, judgment-free space to write! Bring a song in progress or start fresh—either way\, come prepared with a writing utensil\, paper\, and your instrument. Let’s get those ideas flowing!
URL:https://www.bethlehempa.org/event/friday-evening-show-saturday-morning-songwriting-workshop-amelia-white-linda-mcrae-the-nashville-twisters-co-bill-blending-raw-storytelling-folk-grit-and-rock-energy/
LOCATION:Godfrey Daniels\, 7 E 4th St\, Bethlehem\, PA\, United States
CATEGORIES:Live Music & Concerts,Workshops & Classes
ATTACH;FMTTYPE=image/jpeg:https://cdn.bethlehempa.org/wp-content/uploads/2025/04/25-APR-_-AMELIA-WHITE-OLMQe3.tmp_.jpg
ORGANIZER;CN="Godfrey Daniel's":MAILTO:info@godfreydaniels.org
GEO:40.610525;-75.37835
X-APPLE-STRUCTURED-LOCATION;VALUE=URI;X-ADDRESS=Godfrey Daniels 7 E 4th St Bethlehem PA United States;X-APPLE-RADIUS=500;X-TITLE=7 E 4th St:geo:-75.37835,40.610525
END:VEVENT
END:VCALENDAR