BEGIN:VCALENDAR
VERSION:2.0
PRODID:-//City of Bethlehem - ECPv6.15.20//NONSGML v1.0//EN
CALSCALE:GREGORIAN
METHOD:PUBLISH
X-WR-CALNAME:City of Bethlehem
X-ORIGINAL-URL:https://www.bethlehempa.org
X-WR-CALDESC:Events for City of Bethlehem
REFRESH-INTERVAL;VALUE=DURATION:PT1H
X-Robots-Tag:noindex
X-PUBLISHED-TTL:PT1H
BEGIN:VTIMEZONE
TZID:America/New_York
BEGIN:DAYLIGHT
TZOFFSETFROM:-0500
TZOFFSETTO:-0400
TZNAME:EDT
DTSTART:20230312T070000
END:DAYLIGHT
BEGIN:STANDARD
TZOFFSETFROM:-0400
TZOFFSETTO:-0500
TZNAME:EST
DTSTART:20231105T060000
END:STANDARD
BEGIN:DAYLIGHT
TZOFFSETFROM:-0500
TZOFFSETTO:-0400
TZNAME:EDT
DTSTART:20240310T070000
END:DAYLIGHT
BEGIN:STANDARD
TZOFFSETFROM:-0400
TZOFFSETTO:-0500
TZNAME:EST
DTSTART:20241103T060000
END:STANDARD
BEGIN:DAYLIGHT
TZOFFSETFROM:-0500
TZOFFSETTO:-0400
TZNAME:EDT
DTSTART:20250309T070000
END:DAYLIGHT
BEGIN:STANDARD
TZOFFSETFROM:-0400
TZOFFSETTO:-0500
TZNAME:EST
DTSTART:20251102T060000
END:STANDARD
BEGIN:DAYLIGHT
TZOFFSETFROM:-0500
TZOFFSETTO:-0400
TZNAME:EDT
DTSTART:20260308T070000
END:DAYLIGHT
BEGIN:STANDARD
TZOFFSETFROM:-0400
TZOFFSETTO:-0500
TZNAME:EST
DTSTART:20261101T060000
END:STANDARD
END:VTIMEZONE
BEGIN:VEVENT
DTSTART;TZID=America/New_York:20240601T080000
DTEND;TZID=America/New_York:20250126T170000
DTSTAMP:20260424T091201
CREATED:20240611T164121Z
LAST-MODIFIED:20240611T164121Z
UID:10000151-1717228800-1737910800@www.bethlehempa.org
SUMMARY:Checking In Exhibit Now Open
DESCRIPTION:Checking In? Bethlehem’s Alluring Accommodations Exhibit is Now Open! \nThis experience transports guests back nearly three hundred years to various hospitality sites in downtown Bethlehem. This multi-site experience ventures to the Moravian Museum of Bethlehem and the Kemerer Museum of Decorative Arts. Guests will visit sites such as the fictional Moravian Inn\, a reconstruction of the Eagle Hotel\, and the Sun Inn. Along the way\, guests will learn all about the various visitors of Bethlehem\, the importance of hospitality to Bethlehem’s history\, and the roots of these hotels in shaping the United States.  \nThis exhibit offers two ticketing options\, one of which includes a Christmas City Spirits tasting experience and a complimentary tasting glass with a recipe at the conclusion of the tour at the Sun Inn.  \nThe Kemerer Museum and Moravian Museum are open Friday through Sunday\, 11 AM – 5 PM. The Sun Inn is open Wednesday through Saturday\, 12 PM – 9 PM. For ticketing and additional information visit: https://www.historicbethlehem.org/experiences/series/checking-in-bethlehems-alluring-accommodations/#:~:text=Guests%20will%20%E2%80%9Ccheck%2Din%E2%80%9D\,keep%20by%20performing%20several%20tasks.
URL:https://www.bethlehempa.org/event/checking-in-exhibit-now-open/
LOCATION:PA
ATTACH;FMTTYPE=image/png:https://cdn.bethlehempa.org/wp-content/uploads/2024/06/HBMS-Logo_Checking-In-no-colon.png
END:VEVENT
BEGIN:VEVENT
DTSTART;TZID=America/New_York:20240601T090000
DTEND;TZID=America/New_York:20241012T090000
DTSTAMP:20260424T091201
CREATED:20240524T203612Z
LAST-MODIFIED:20240601T153426Z
UID:10000104-1717232400-1728723600@www.bethlehempa.org
SUMMARY:Bethlehem Rose Garden Farmers Market
DESCRIPTION:Join us at the historic Bethlehem Rose Garden Park every Saturday from 9am – 1pm\, June 1 – October 12\, 2024 for the Bethlehem Rose Garden Farmers Market. We are a friendly\, neighborhood market where you will find fresh produce and all kinds of other treats brought to you by our local vendors. We have lots of fun events planned this year so follow us on Facebook for weekly updates! See you at the Market!! \n  \n 
URL:https://www.bethlehempa.org/event/bethlehem-rose-garden-farmers-market/
LOCATION:PA
CATEGORIES:Community Events,Family Fun
ATTACH;FMTTYPE=image/jpeg:https://cdn.bethlehempa.org/wp-content/uploads/2024/05/Farmers-Market-Logo-2.jpg
END:VEVENT
BEGIN:VEVENT
DTSTART;TZID=America/New_York:20240930T080000
DTEND;TZID=America/New_York:20240930T170000
DTSTAMP:20260424T091201
CREATED:20240930T192142Z
LAST-MODIFIED:20240930T192142Z
UID:10000460-1727683200-1727715600@www.bethlehempa.org
SUMMARY:CASH BINGO to support the Charter Arts Music Department
DESCRIPTION:Do you love BINGO?  Do you love supporting music education and the arts? \n\nCome out and support the Lehigh Valley Charter High School for the Arts (Charter Arts) Music Department’s CASH BINGO event on Saturday\, October 5th! Enjoy special games\, basket raffle\, 50/50\, Food\, Fun & More!  Doors open at 10 AM. Bingo runs from 11 AM- 2 PM. \nAdvance tickets are $20. Tickets at the Door are $25. Use QR code on the attached flyer or visit CharterArts.org to purchase. \nPlease note that children under 18 must be accompanied by an adult. A student or child who arrives without an adult\, will not be permitted into the event. The event is being hosted by the Charter Arts Music Parents and Supporters Association (CAMPSA).
URL:https://www.bethlehempa.org/event/cash-bingo-to-support-the-charter-arts-music-department/
LOCATION:Lehigh Valley Charter High School for the Arts\, 321 E 3rd St\, Bethlehem\, PA\, United States
CATEGORIES:Community Events
ATTACH;FMTTYPE=image/jpeg:https://cdn.bethlehempa.org/wp-content/uploads/2024/09/BINGO-fundraiser-flyer-1-1-scaled.jpg
ORGANIZER;CN="Lehigh Valley Charter High School for the Arts":MAILTO:communications@charterarts.org
GEO:40.612144;-75.374371
X-APPLE-STRUCTURED-LOCATION;VALUE=URI;X-ADDRESS=Lehigh Valley Charter High School for the Arts 321 E 3rd St Bethlehem PA United States;X-APPLE-RADIUS=500;X-TITLE=321 E 3rd St:geo:-75.374371,40.612144
END:VEVENT
BEGIN:VEVENT
DTSTART;TZID=America/New_York:20240930T083000
DTEND;TZID=America/New_York:20241104T160000
DTSTAMP:20260424T091201
CREATED:20240913T141301Z
LAST-MODIFIED:20240913T141301Z
UID:10000389-1727685000-1730736000@www.bethlehempa.org
SUMMARY:Another Point of View: 4 Visually Impaired Artists
DESCRIPTION:The Bethlehem Fine Arts Commission presents an invitational exhibition: “Another Point of View: 4 Visually Impaired Artists” that highlights the work of  Mary Ann Dunwoodie\, Michael Freeman\, Dianne Michels\, and Terry Newhard at the Bethlehem Town Hall Rotunda Gallery from September 30 to November 4\, 2024.  The exhibition brings together 4 visually impaired artisans with varying degrees of vision who use their personal creative process as a means of self expression and inspiration. The goal is to bring together members of the sighted community with these talented artisans. While their sight may have darkened and somewhat dimmed\, all of these artists have a visionary quest which shows no limits and takes us forward into the light. “This exhibit will allow the community to expand its imagination on the subject and medium of each work of art\, much like many exhibits do\,” Bethlehem Mayor J. William Reynolds stated\, “but it will also expand our imagination on what is possible when we challenge the idea of what ‘disability’ allows us\, or does not allow us\, to create.”  \nThere will be an artist reception on Sunday\, October 6 from 2:00 to 4:00 PM.  The Rotunda Gallery is located at 10 E. Church Street.  Gallery hours are Monday to Friday from 8:00 AM to 4:00 PM. \nThe exhibition is sponsored by the Bethlehem Fine Arts Commission (www.bfac-lv.org) and the Pennsylvania Council on the Arts.
URL:https://www.bethlehempa.org/event/another-point-of-view-4-visually-impaired-artists/
LOCATION:Bethlehem Town Hall Rotunda Gallery\, 10 East Church Street\, Bethlehem\, PA\, 18018\, United States
ATTACH;FMTTYPE=image/jpeg:https://cdn.bethlehempa.org/wp-content/uploads/2024/09/Another-Vision-card-copy-2.jpg
ORGANIZER;CN="Bethlehem Fine Arts Commission":MAILTO:rbegbie@rcn.com
END:VEVENT
BEGIN:VEVENT
DTSTART;TZID=America/New_York:20240930T093000
DTEND;TZID=America/New_York:20240930T110000
DTSTAMP:20260424T091201
CREATED:20240924T130611Z
LAST-MODIFIED:20240924T130611Z
UID:10000424-1727688600-1727694000@www.bethlehempa.org
SUMMARY:Hi Neighbors Speakers Program
DESCRIPTION:Hi Neighbors brings an interesting assortment of local speakers who share their interest and passion for topics like music\, history\, travel\, and wellness. \nEach session will begin at 9:30 a.m. in Fellowship Hall with a hospitality time. The presentations will begin at 10 a.m. All are welcome – there is no fee and no pre-registration. \nSept. 30: Join John Gallagher as he shares the story of “Archibald Johnston and the Archie Project\,” the restoration of the Bethlehem township homestead of Bethlehem’s first mayor.
URL:https://www.bethlehempa.org/event/hi-neighbors-speakers-program-4/
LOCATION:first presbyterian church of bethlehem\, 2344 Center St.\, Bethlehem\, PA\, 18017\, United States
ATTACH;FMTTYPE=image/png:https://cdn.bethlehempa.org/wp-content/uploads/2024/09/HiNeighbors_FB-event_4-8-24-2.png
ORGANIZER;CN="First Presbyterian Church of Bethlehem":MAILTO:caroljburns@gmail.com
END:VEVENT
BEGIN:VEVENT
DTSTART;TZID=America/New_York:20240930T120000
DTEND;TZID=America/New_York:20240930T133000
DTSTAMP:20260424T091201
CREATED:20240915T004101Z
LAST-MODIFIED:20240930T014032Z
UID:10000394-1727697600-1727703000@www.bethlehempa.org
SUMMARY:🌿🧘‍♂️ Qigong: Meditation and Relaxation 🌿🧘‍♀️
DESCRIPTION:🌿🧘‍♂️ Qigong: Meditation and Relaxation 🌿🧘‍♀️\nFind your inner peace and enhance your health with Qigong! Experience this ancient Chinese exercise that boosts circulation\, flexibility\, balance\, and stamina. Whether you’re a beginner or a seasoned practitioner\, our Qigong classes welcome all skill levels! 🌀💪\nJoin us every:\n🕥 Monday at 12pm – 1:15pm\n🕥 Saturday at 10:15am – 11:30am\n📍 11 West Church Street\, Bethlehem\, PA\n💻 or join from the comfort of your home via Zoom!\nEnjoy a rejuvenating 1 hour and 15 minutes session designed to be short\, easy to learn\, and customizable for every individual’s needs. Start your journey to improved health and well-being today! 🌟🌈\nRegistration is recommended\, so secure your spot now! ➡️ https://bethlehemarea.librarycalendar.com/events/upcoming?keywords=qigong)\n#Qigong #Meditation #Relaxation #BethlehemPA #Health #Wellness #LehighValleyPA #LehighValley #Yoga
URL:https://www.bethlehempa.org/event/%f0%9f%8c%bf%f0%9f%a7%98%e2%99%82%ef%b8%8f-qigong-meditation-and-relaxation-%f0%9f%8c%bf%f0%9f%a7%98%e2%99%80%ef%b8%8f-9/
LOCATION:bethlehem area public library\, 11 W Church St\, Bethlehem\, PA\, United States
ATTACH;FMTTYPE=image/png:https://cdn.bethlehempa.org/wp-content/uploads/2024/08/Qigong-Poster-7-TzyMwP.tmp_.png
ORGANIZER;CN="Bethlehem Area Public Library":MAILTO:afarrow@bapl.org
GEO:40.618736;-75.379234
X-APPLE-STRUCTURED-LOCATION;VALUE=URI;X-ADDRESS=bethlehem area public library 11 W Church St Bethlehem PA United States;X-APPLE-RADIUS=500;X-TITLE=11 W Church St:geo:-75.379234,40.618736
END:VEVENT
BEGIN:VEVENT
DTSTART;TZID=America/New_York:20240930T170000
DTEND;TZID=America/New_York:20240930T193000
DTSTAMP:20260424T091201
CREATED:20240915T004102Z
LAST-MODIFIED:20240930T014033Z
UID:10000395-1727715600-1727724600@www.bethlehempa.org
SUMMARY:🎤🎶 Open Mic Night @BAPL 🎶🎤
DESCRIPTION:🎤🎶 Open Mic Night @BAPL 🎶🎤\nJoin us for an open mic hosted by Bill Medei! Come enjoy listening to music\, comedy\, and poetry acts or sign up to perform yourself! 🎸😂📜\nPerformers\, please arrive around 5PM to sign up. Currently\, there is a fifteen-minute time limit for musicians and a six-minute time limit for poets and comedians. No registration is required. 🎙️✨\n📅 Mondays\, 5:00pm -7:30pm\n📍 11 West Church Street\, Bethlehem\, PA 18018\nCome showcase your talent or enjoy the performances! 🎵\n🔗 More Info:https://bethlehemarea.librarycalendar.com/events/upcoming?keywords=mic
URL:https://www.bethlehempa.org/event/%f0%9f%8e%a4%f0%9f%8e%b6-open-mic-night-bapl-%f0%9f%8e%b6%f0%9f%8e%a4-23/
LOCATION:bethlehem area public library\, 11 W Church St\, Bethlehem\, PA\, United States
CATEGORIES:Artist Showing,Arts & Culture,Performance/Theatre
ATTACH;FMTTYPE=image/png:https://cdn.bethlehempa.org/wp-content/uploads/2024/07/open-mic-poster-Instagram-Post-Square-5-MLhUYJ.tmp_.png
ORGANIZER;CN="Bethlehem Area Public Library":MAILTO:afarrow@bapl.org
GEO:40.618736;-75.379234
X-APPLE-STRUCTURED-LOCATION;VALUE=URI;X-ADDRESS=bethlehem area public library 11 W Church St Bethlehem PA United States;X-APPLE-RADIUS=500;X-TITLE=11 W Church St:geo:-75.379234,40.618736
END:VEVENT
BEGIN:VEVENT
DTSTART;TZID=America/New_York:20240930T170000
DTEND;TZID=America/New_York:20240930T193000
DTSTAMP:20260424T091201
CREATED:20240916T004320Z
LAST-MODIFIED:20240930T014033Z
UID:10000396-1727715600-1727724600@www.bethlehempa.org
SUMMARY:🎤🎶 Open Mic Night @BAPL 🎶🎤
DESCRIPTION:🎤🎶 Open Mic Night @BAPL 🎶🎤\nJoin us for an open mic hosted by Bill Medei! Come enjoy listening to music\, comedy\, and poetry acts or sign up to perform yourself! 🎸😂📜\nPerformers\, please arrive around 5PM to sign up. Currently\, there is a fifteen-minute time limit for musicians and a six-minute time limit for poets and comedians. No registration is required. 🎙️✨\n📅 Mondays\, 5:00pm -7:30pm\n📍 11 West Church Street\, Bethlehem\, PA 18018\nCome showcase your talent or enjoy the performances! 🎵\n🔗 More Info:https://bethlehemarea.librarycalendar.com/events/upcoming?keywords=mic\n#OpenMic #LiveMusic #Comedy #Poetry #BethlehemPA #LehighValleyPA #LehighValley
URL:https://www.bethlehempa.org/event/%f0%9f%8e%a4%f0%9f%8e%b6-open-mic-night-bapl-%f0%9f%8e%b6%f0%9f%8e%a4-24/
LOCATION:bethlehem area public library\, 11 W Church St\, Bethlehem\, PA\, United States
ATTACH;FMTTYPE=image/png:https://cdn.bethlehempa.org/wp-content/uploads/2024/08/open-mic-poster-Instagram-Post-Square-7-ZMhxGD.tmp_.png
ORGANIZER;CN="Bethlehem Area Public Library":MAILTO:afarrow@bapl.org
GEO:40.618736;-75.379234
X-APPLE-STRUCTURED-LOCATION;VALUE=URI;X-ADDRESS=bethlehem area public library 11 W Church St Bethlehem PA United States;X-APPLE-RADIUS=500;X-TITLE=11 W Church St:geo:-75.379234,40.618736
END:VEVENT
END:VCALENDAR