BEGIN:VCALENDAR
VERSION:2.0
PRODID:-//City of Bethlehem - ECPv6.15.20//NONSGML v1.0//EN
CALSCALE:GREGORIAN
METHOD:PUBLISH
X-ORIGINAL-URL:https://www.bethlehempa.org
X-WR-CALDESC:Events for City of Bethlehem
REFRESH-INTERVAL;VALUE=DURATION:PT1H
X-Robots-Tag:noindex
X-PUBLISHED-TTL:PT1H
BEGIN:VTIMEZONE
TZID:America/New_York
BEGIN:DAYLIGHT
TZOFFSETFROM:-0500
TZOFFSETTO:-0400
TZNAME:EDT
DTSTART:20230312T070000
END:DAYLIGHT
BEGIN:STANDARD
TZOFFSETFROM:-0400
TZOFFSETTO:-0500
TZNAME:EST
DTSTART:20231105T060000
END:STANDARD
BEGIN:DAYLIGHT
TZOFFSETFROM:-0500
TZOFFSETTO:-0400
TZNAME:EDT
DTSTART:20240310T070000
END:DAYLIGHT
BEGIN:STANDARD
TZOFFSETFROM:-0400
TZOFFSETTO:-0500
TZNAME:EST
DTSTART:20241103T060000
END:STANDARD
BEGIN:DAYLIGHT
TZOFFSETFROM:-0500
TZOFFSETTO:-0400
TZNAME:EDT
DTSTART:20250309T070000
END:DAYLIGHT
BEGIN:STANDARD
TZOFFSETFROM:-0400
TZOFFSETTO:-0500
TZNAME:EST
DTSTART:20251102T060000
END:STANDARD
BEGIN:DAYLIGHT
TZOFFSETFROM:-0500
TZOFFSETTO:-0400
TZNAME:EDT
DTSTART:20260308T070000
END:DAYLIGHT
BEGIN:STANDARD
TZOFFSETFROM:-0400
TZOFFSETTO:-0500
TZNAME:EST
DTSTART:20261101T060000
END:STANDARD
END:VTIMEZONE
BEGIN:VEVENT
DTSTART;TZID=America/New_York:20240601T080000
DTEND;TZID=America/New_York:20250126T170000
DTSTAMP:20260424T091425
CREATED:20240611T164121Z
LAST-MODIFIED:20240611T164121Z
UID:10000151-1717228800-1737910800@www.bethlehempa.org
SUMMARY:Checking In Exhibit Now Open
DESCRIPTION:Checking In? Bethlehem’s Alluring Accommodations Exhibit is Now Open! \nThis experience transports guests back nearly three hundred years to various hospitality sites in downtown Bethlehem. This multi-site experience ventures to the Moravian Museum of Bethlehem and the Kemerer Museum of Decorative Arts. Guests will visit sites such as the fictional Moravian Inn\, a reconstruction of the Eagle Hotel\, and the Sun Inn. Along the way\, guests will learn all about the various visitors of Bethlehem\, the importance of hospitality to Bethlehem’s history\, and the roots of these hotels in shaping the United States.  \nThis exhibit offers two ticketing options\, one of which includes a Christmas City Spirits tasting experience and a complimentary tasting glass with a recipe at the conclusion of the tour at the Sun Inn.  \nThe Kemerer Museum and Moravian Museum are open Friday through Sunday\, 11 AM – 5 PM. The Sun Inn is open Wednesday through Saturday\, 12 PM – 9 PM. For ticketing and additional information visit: https://www.historicbethlehem.org/experiences/series/checking-in-bethlehems-alluring-accommodations/#:~:text=Guests%20will%20%E2%80%9Ccheck%2Din%E2%80%9D\,keep%20by%20performing%20several%20tasks.
URL:https://www.bethlehempa.org/event/checking-in-exhibit-now-open/
LOCATION:PA
ATTACH;FMTTYPE=image/png:https://cdn.bethlehempa.org/wp-content/uploads/2024/06/HBMS-Logo_Checking-In-no-colon.png
END:VEVENT
BEGIN:VEVENT
DTSTART;TZID=America/New_York:20240601T090000
DTEND;TZID=America/New_York:20241012T090000
DTSTAMP:20260424T091425
CREATED:20240524T203612Z
LAST-MODIFIED:20240601T153426Z
UID:10000104-1717232400-1728723600@www.bethlehempa.org
SUMMARY:Bethlehem Rose Garden Farmers Market
DESCRIPTION:Join us at the historic Bethlehem Rose Garden Park every Saturday from 9am – 1pm\, June 1 – October 12\, 2024 for the Bethlehem Rose Garden Farmers Market. We are a friendly\, neighborhood market where you will find fresh produce and all kinds of other treats brought to you by our local vendors. We have lots of fun events planned this year so follow us on Facebook for weekly updates! See you at the Market!! \n  \n 
URL:https://www.bethlehempa.org/event/bethlehem-rose-garden-farmers-market/
LOCATION:PA
CATEGORIES:Community Events,Family Fun
ATTACH;FMTTYPE=image/jpeg:https://cdn.bethlehempa.org/wp-content/uploads/2024/05/Farmers-Market-Logo-2.jpg
END:VEVENT
BEGIN:VEVENT
DTSTART;TZID=America/New_York:20240826T080000
DTEND;TZID=America/New_York:20240925T180000
DTSTAMP:20260424T091425
CREATED:20240826T153207Z
LAST-MODIFIED:20240826T153207Z
UID:10000319-1724659200-1727287200@www.bethlehempa.org
SUMMARY:September Wine and Read with Franklin Hill Vineyards
DESCRIPTION:Join FHV for their September Book Club. This month we will be reading The Secret Book of Flora Lea by Patti Callahan Henry. We will be meeting at the Bethlehem location on Wednesday\, September 25th for the discussion. Ticket purchase includes a sampling of the wine we have chosen to pair with this months book\, a personal snack box\, a glass of your favorite FHV wine and themed gift. If you would like to participate you can purchase your copy at the Moravian bookstore for 10% off with proof of your ticket purchase (while supplies last). \nCan’t make this discussion\, check out our Facebook page for the book club being held at our Bangor location!
URL:https://www.bethlehempa.org/event/september-wine-and-read-with-franklin-hill-vineyards/
LOCATION:Franklin Hill Vineyards\, 559 Main Street Suite #124\, Bethlehem\, PA\, 18018\, United States
ATTACH;FMTTYPE=image/png:https://cdn.bethlehempa.org/wp-content/uploads/2024/08/1.png
ORGANIZER;CN="Franklin Hill Vineyards":MAILTO:Events@franklinhillvineyards.com
END:VEVENT
BEGIN:VEVENT
DTSTART;TZID=America/New_York:20240917T173000
DTEND;TZID=America/New_York:20240917T203000
DTSTAMP:20260424T091425
CREATED:20240903T125139Z
LAST-MODIFIED:20240903T125139Z
UID:10000338-1726594200-1726605000@www.bethlehempa.org
SUMMARY:BC Blue at Yianni's Taverna
DESCRIPTION:Music Tuesdays return in September at the Bethlehem’s premiere Greek restaurant.
URL:https://www.bethlehempa.org/event/bc-blue-at-yiannis-taverna/
LOCATION:PA
ATTACH;FMTTYPE=image/jpeg:https://cdn.bethlehempa.org/wp-content/uploads/2024/08/BCBLUE_Yiannis-1.jpeg
END:VEVENT
BEGIN:VEVENT
DTSTART;TZID=America/New_York:20240917T190000
DTEND;TZID=America/New_York:20240917T190000
DTSTAMP:20260424T091425
CREATED:20240904T234115Z
LAST-MODIFIED:20240917T005527Z
UID:10000358-1726599600-1726599600@www.bethlehempa.org
SUMMARY:Sonny Landreth in a Rare Solo Performance: A TUESDAY NIGHT SHOW!
DESCRIPTION:TUESDAY\, SEPTEMBER 17 \, 7PM\n$43.50 ADVANCE | $48.50 DAY OF SHOW\nhttps://godfreydaniels.org/event/sonny-landreth-rare-solo-performance-slide-guitar-september-17-2024/\nGodfrey Daniels is thrilled to welcome Sonny Landreth to our stage for a rare solo performance on a Tuesday night!  As a two-time Grammy nominee and master of the slide guitar\, Mr. Landreth’s innovative techniques and boundary-breaking style promise an unforgettable evening of music. Mark your calendars and join us for this special event!\nNew frontiers fit nicely atop the boundary-breaking career of singer-songwriter and slide guitar icon Sonny Landreth. From performing live with Buddy Guy and John Hiatt in theaters and arenas around the United States\, to post-New Orleans Jazz Fest jamming on bayou rhythms with Oteil Burbridge and Johnny Vidacovich\, to recording and playing live with ukulele phenom Jake Shimabukuro at The Blue Note in Hawaii\, it’s been a noteworthy couple of years for the twotime Grammy nominee. And those are just his side projects.\n“One of the things I love about collaborations with other artists is the element of surprise\,” Landreth says of his continually expanding musical horizons. “When the chemistry is there\, it’s always inspiring to find new twists and turns that up the game creatively.”\nLandreth tours regularly in a duo with fellow slide guitar ace Cindy Cashdollar as well as with his own electric and acoustic trio. From every edition of Eric Clapton’s Crossroads Guitar Festival to Wintergrass to Camp Cripple Creek for Jim Weider’s The Weight Band and beyond\, Landreth and his musical partners are always reaching for the unexpected and unexplored. He’s twice graced the cover of Guitar Player magazine\, and he’s featured on the lead track of Shemekia Copeland’s Grammy-nominated album Done Come Too Far.\nStretching in different directions\, Landreth says\, “gives you a broader perspective – and I think that impacts every aspect of making music. I know it’s helped to make our shows more memorable and more fun for everyone onstage and in the audience too.”
URL:https://www.bethlehempa.org/event/sonny-landreth-in-a-rare-solo-performance-a-tuesday-night-show/
LOCATION:Godfrey Daniels\, 7 E 4th St\, Bethlehem\, PA\, United States
ATTACH;FMTTYPE=image/jpeg:https://cdn.bethlehempa.org/wp-content/uploads/2024/09/SEPT-17_SONNY-LANDRETH-scaled-rQlOzY.tmp_.jpg
ORGANIZER;CN="Godfrey Daniel's":MAILTO:info@godfreydaniels.org
GEO:40.610525;-75.37835
X-APPLE-STRUCTURED-LOCATION;VALUE=URI;X-ADDRESS=Godfrey Daniels 7 E 4th St Bethlehem PA United States;X-APPLE-RADIUS=500;X-TITLE=7 E 4th St:geo:-75.37835,40.610525
END:VEVENT
END:VCALENDAR