BEGIN:VCALENDAR
VERSION:2.0
PRODID:-//City of Bethlehem - ECPv6.15.20//NONSGML v1.0//EN
CALSCALE:GREGORIAN
METHOD:PUBLISH
X-ORIGINAL-URL:https://www.bethlehempa.org
X-WR-CALDESC:Events for City of Bethlehem
REFRESH-INTERVAL;VALUE=DURATION:PT1H
X-Robots-Tag:noindex
X-PUBLISHED-TTL:PT1H
BEGIN:VTIMEZONE
TZID:America/New_York
BEGIN:DAYLIGHT
TZOFFSETFROM:-0500
TZOFFSETTO:-0400
TZNAME:EDT
DTSTART:20230312T070000
END:DAYLIGHT
BEGIN:STANDARD
TZOFFSETFROM:-0400
TZOFFSETTO:-0500
TZNAME:EST
DTSTART:20231105T060000
END:STANDARD
BEGIN:DAYLIGHT
TZOFFSETFROM:-0500
TZOFFSETTO:-0400
TZNAME:EDT
DTSTART:20240310T070000
END:DAYLIGHT
BEGIN:STANDARD
TZOFFSETFROM:-0400
TZOFFSETTO:-0500
TZNAME:EST
DTSTART:20241103T060000
END:STANDARD
BEGIN:DAYLIGHT
TZOFFSETFROM:-0500
TZOFFSETTO:-0400
TZNAME:EDT
DTSTART:20250309T070000
END:DAYLIGHT
BEGIN:STANDARD
TZOFFSETFROM:-0400
TZOFFSETTO:-0500
TZNAME:EST
DTSTART:20251102T060000
END:STANDARD
BEGIN:DAYLIGHT
TZOFFSETFROM:-0500
TZOFFSETTO:-0400
TZNAME:EDT
DTSTART:20260308T070000
END:DAYLIGHT
BEGIN:STANDARD
TZOFFSETFROM:-0400
TZOFFSETTO:-0500
TZNAME:EST
DTSTART:20261101T060000
END:STANDARD
END:VTIMEZONE
BEGIN:VEVENT
DTSTART;TZID=America/New_York:20240601T080000
DTEND;TZID=America/New_York:20250126T170000
DTSTAMP:20260424T091624
CREATED:20240611T164121Z
LAST-MODIFIED:20240611T164121Z
UID:10000151-1717228800-1737910800@www.bethlehempa.org
SUMMARY:Checking In Exhibit Now Open
DESCRIPTION:Checking In? Bethlehem’s Alluring Accommodations Exhibit is Now Open! \nThis experience transports guests back nearly three hundred years to various hospitality sites in downtown Bethlehem. This multi-site experience ventures to the Moravian Museum of Bethlehem and the Kemerer Museum of Decorative Arts. Guests will visit sites such as the fictional Moravian Inn\, a reconstruction of the Eagle Hotel\, and the Sun Inn. Along the way\, guests will learn all about the various visitors of Bethlehem\, the importance of hospitality to Bethlehem’s history\, and the roots of these hotels in shaping the United States.  \nThis exhibit offers two ticketing options\, one of which includes a Christmas City Spirits tasting experience and a complimentary tasting glass with a recipe at the conclusion of the tour at the Sun Inn.  \nThe Kemerer Museum and Moravian Museum are open Friday through Sunday\, 11 AM – 5 PM. The Sun Inn is open Wednesday through Saturday\, 12 PM – 9 PM. For ticketing and additional information visit: https://www.historicbethlehem.org/experiences/series/checking-in-bethlehems-alluring-accommodations/#:~:text=Guests%20will%20%E2%80%9Ccheck%2Din%E2%80%9D\,keep%20by%20performing%20several%20tasks.
URL:https://www.bethlehempa.org/event/checking-in-exhibit-now-open/
LOCATION:PA
ATTACH;FMTTYPE=image/png:https://cdn.bethlehempa.org/wp-content/uploads/2024/06/HBMS-Logo_Checking-In-no-colon.png
END:VEVENT
BEGIN:VEVENT
DTSTART;TZID=America/New_York:20240601T090000
DTEND;TZID=America/New_York:20241012T090000
DTSTAMP:20260424T091624
CREATED:20240524T203612Z
LAST-MODIFIED:20240601T153426Z
UID:10000104-1717232400-1728723600@www.bethlehempa.org
SUMMARY:Bethlehem Rose Garden Farmers Market
DESCRIPTION:Join us at the historic Bethlehem Rose Garden Park every Saturday from 9am – 1pm\, June 1 – October 12\, 2024 for the Bethlehem Rose Garden Farmers Market. We are a friendly\, neighborhood market where you will find fresh produce and all kinds of other treats brought to you by our local vendors. We have lots of fun events planned this year so follow us on Facebook for weekly updates! See you at the Market!! \n  \n 
URL:https://www.bethlehempa.org/event/bethlehem-rose-garden-farmers-market/
LOCATION:PA
CATEGORIES:Community Events,Family Fun
ATTACH;FMTTYPE=image/jpeg:https://cdn.bethlehempa.org/wp-content/uploads/2024/05/Farmers-Market-Logo-2.jpg
END:VEVENT
BEGIN:VEVENT
DTSTART;TZID=America/New_York:20240826T080000
DTEND;TZID=America/New_York:20240925T180000
DTSTAMP:20260424T091624
CREATED:20240826T153207Z
LAST-MODIFIED:20240826T153207Z
UID:10000319-1724659200-1727287200@www.bethlehempa.org
SUMMARY:September Wine and Read with Franklin Hill Vineyards
DESCRIPTION:Join FHV for their September Book Club. This month we will be reading The Secret Book of Flora Lea by Patti Callahan Henry. We will be meeting at the Bethlehem location on Wednesday\, September 25th for the discussion. Ticket purchase includes a sampling of the wine we have chosen to pair with this months book\, a personal snack box\, a glass of your favorite FHV wine and themed gift. If you would like to participate you can purchase your copy at the Moravian bookstore for 10% off with proof of your ticket purchase (while supplies last). \nCan’t make this discussion\, check out our Facebook page for the book club being held at our Bangor location!
URL:https://www.bethlehempa.org/event/september-wine-and-read-with-franklin-hill-vineyards/
LOCATION:Franklin Hill Vineyards\, 559 Main Street Suite #124\, Bethlehem\, PA\, 18018\, United States
ATTACH;FMTTYPE=image/png:https://cdn.bethlehempa.org/wp-content/uploads/2024/08/1.png
ORGANIZER;CN="Franklin Hill Vineyards":MAILTO:Events@franklinhillvineyards.com
END:VEVENT
BEGIN:VEVENT
DTSTART;VALUE=DATE:20240915
DTEND;VALUE=DATE:20240916
DTSTAMP:20260424T091624
CREATED:20240822T224158Z
LAST-MODIFIED:20240915T004029Z
UID:10000313-1726358400-1726444799@www.bethlehempa.org
SUMMARY:F&A GROG HOUSE PREMIER LEAGUE SOCCER WATCH PARTY EVERY SATURDAY AND SUNDAY
DESCRIPTION:Attention\, Premier League fanatics and watch party enthusiasts\, buckle up for the ultimate premier league experience right here in the heart of Lehigh Valley – F&A Grog House is the place to catch all the action! 🎉🏆\nGet ready to kick off your weekends with a bang because our doors swing open at 10:00 AM on Saturdays and an even earlier 9:00 AM on action-packed Sundays! 🕘⚽\nBut hold on to your hats\, folks\, because we’ve got the BEST deal in town – Guinness Drafts\, for an unbeatable $6.00 a pint during the heart-pounding games! 🍻🍻\nOh\, and the excitement doesn’t stop there – we’ve got breakfast on the menu\, starting at 10:00 AM on both days! No more excuses to miss the early morning games when you’ve got F&A fueling your energy! 🥓🍳\nLeave your worries at the door and join the roaring crowd of die-hard fans – F&A Grog House is THE go-to spot to catch every single moment of the premier league action. From nail-biting rivalries to jaw-dropping goals\, we’ve got it all\, and we’ve got it BIG! 🔥⚽🔥\nSo grab your friends\, throw on your team’s colors\, and head over to F&A\, where passion meets camaraderie\, and where champions are crowned! 🏆🎊 It is always a great day at F&A!
URL:https://www.bethlehempa.org/event/fa-grog-house-premier-league-soccer-watch-party-every-saturday-and-sunday-42/
LOCATION:PA
CATEGORIES:Special Events
ATTACH;FMTTYPE=image/jpeg:https://cdn.bethlehempa.org/wp-content/uploads/2024/04/fandagrog-wZn8uV.tmp_.jpg
END:VEVENT
BEGIN:VEVENT
DTSTART;TZID=America/New_York:20240915T110000
DTEND;TZID=America/New_York:20240915T154300
DTSTAMP:20260424T091624
CREATED:20240824T225601Z
LAST-MODIFIED:20240915T004028Z
UID:10000315-1726398000-1726414980@www.bethlehempa.org
SUMMARY:Bethlehem Steel Locomotive Experience
DESCRIPTION:The National Museum of Industrial History is excited to offer a hands-on train engineer experience on its restored narrow gauge locomotive! Situated in the museum’s park area\, the 1941 Whitcomb diesel-electric locomotive was used at Bethlehem Steel in the Electric Furnace Melt Shop where it moved trains of scrap metal. Restored by museum volunteers and staff to working condition\, the train operates on a little over 100 feet of demonstration track. During this educational experience participants will be able to climb into the cab\, learn how the locomotive works\, then take the controls under the supervision of museum personnel. The short but memorable runs will let you step back in time\, putting you in the same engineer’s seat as the steelworkers who helped build the country.\nEach experience is limited to two adults or one adult and one child. Each session lasts approximately 20 minutes and is weather-dependent. Tickets are $30 per session (includes 1-2 participants) and are non-refundable except in the case of inclement weather or cancellation by the museum.\nLearn more about the locomotive’s restoration process and see it in action here: https://www.nmih.org/restoration-highlight-1941-bethlehem-steel-whitcomb-narrow-gauge-locomotive\nBecause of the nature of operating historic equipment\, availability is subject to change without advance notice. Every reasonable effort will be made to keep your experience on track. Guests must be able to climb four steps to enter and exit the locomotive.  NMIH’s Bethlehem Steel locomotive experience is separate from regular museum admission.\nBOOK YOUR TIMESLOT FOR THE 2024 SEASON\nPRE-REGISTRATION REQUIRED\n2024 Season Dates – First and Third Sundays April through October\nApril 7th & 21th\nMay 5th & 19th\nJune 2nd & 16th\nJuly 7th & 21st\nAugust 4th & 18th\nSeptember 1st & 15th\nOctober 6th & 20th\nTO PURCHASE TICKETS FOR FIRST SUNDAY OF EACH MONTH CLICK HERE.\nTO PURCHASE TICKETS FOR THIRD SUNDAY OF EACH MONTH CLICK HERE.\nTO PURCHASE TICKETS FOR MAY 19th\, CLICK HERE.
URL:https://www.bethlehempa.org/event/bethlehem-steel-locomotive-experience-6/
LOCATION:National Museum of Industrial History\, 98 E 2nd St\, Bethlehem\, PA\, United States
ATTACH;FMTTYPE=image/jpeg:https://cdn.bethlehempa.org/wp-content/uploads/2024/07/locomotiveexp-klZPmX.tmp_.jpg
GEO:40.612527;-75.377208
X-APPLE-STRUCTURED-LOCATION;VALUE=URI;X-ADDRESS=National Museum of Industrial History 98 E 2nd St Bethlehem PA United States;X-APPLE-RADIUS=500;X-TITLE=98 E 2nd St:geo:-75.377208,40.612527
END:VEVENT
BEGIN:VEVENT
DTSTART;TZID=America/New_York:20240915T133000
DTEND;TZID=America/New_York:20240915T160000
DTSTAMP:20260424T091624
CREATED:20240910T143743Z
LAST-MODIFIED:20240914T220806Z
UID:10000362-1726407000-1726416000@www.bethlehempa.org
SUMMARY:The Bethlehem Palette Club Visiting Artist Program
DESCRIPTION:The Bethlehem Palette Club invites you \nSunday\, September 15\, 1:30 – 4 p.m. \nat the Edgeboro Moravian Church\, 645 Hamilton Ave. Bethlehem\, PA 19017. \nThe demonstration has changed this Sunday to Bethlehem artist Rose Mavis \,who is passionate about plein aire painting.  She will demonstrate her method for using oils in the open air. \nwww.bethlehempaletteclub.org or Facebook: The Bethlehem Palette Club \n 
URL:https://www.bethlehempa.org/event/the-bethlehem-palette-club-visiting-artist-program-2/
LOCATION:PA
CATEGORIES:Arts & Culture
ATTACH;FMTTYPE=image/jpeg:https://cdn.bethlehempa.org/wp-content/uploads/2024/09/BPC-logo-smaller-version-color-Copy.jpg
END:VEVENT
BEGIN:VEVENT
DTSTART;TZID=America/New_York:20240915T140000
DTEND;TZID=America/New_York:20240915T150000
DTSTAMP:20260424T091624
CREATED:20240904T195114Z
LAST-MODIFIED:20240904T195400Z
UID:10000355-1726408800-1726412400@www.bethlehempa.org
SUMMARY:Mainstreet Brass Concert
DESCRIPTION:Join us on Sunday\, September 15 at 2 p.m. for the Mainstreet Brass concert on the Church Green. Mainstreet Brass was formed in 1986\, inspired by a musical camaraderie\, a passion for brass quintet literature and performance\, and a goal to present interesting and entertaining music to its audiences. Described by the International Trumpet Guild Journal as “a unique and talented quintet that is willing to take risks\,” the ensemble has performed for enthusiastic crowds at concert series throughout the Midwest\, East Coast and the United Kingdom. Bring your lawn chairs! (In case of inclement weather\, the concert will be held indoors.) No tickets necessary.
URL:https://www.bethlehempa.org/event/mainstreet-brass-concert/
LOCATION:Central Moravian Church\, 418 Main Street\, Bethlehem\, 18018
ATTACH;FMTTYPE=image/jpeg:https://cdn.bethlehempa.org/wp-content/uploads/2024/09/mainstreet-brass3.jpg
END:VEVENT
END:VCALENDAR