BEGIN:VCALENDAR
VERSION:2.0
PRODID:-//City of Bethlehem - ECPv6.15.20//NONSGML v1.0//EN
CALSCALE:GREGORIAN
METHOD:PUBLISH
X-ORIGINAL-URL:https://www.bethlehempa.org
X-WR-CALDESC:Events for City of Bethlehem
REFRESH-INTERVAL;VALUE=DURATION:PT1H
X-Robots-Tag:noindex
X-PUBLISHED-TTL:PT1H
BEGIN:VTIMEZONE
TZID:America/New_York
BEGIN:DAYLIGHT
TZOFFSETFROM:-0500
TZOFFSETTO:-0400
TZNAME:EDT
DTSTART:20230312T070000
END:DAYLIGHT
BEGIN:STANDARD
TZOFFSETFROM:-0400
TZOFFSETTO:-0500
TZNAME:EST
DTSTART:20231105T060000
END:STANDARD
BEGIN:DAYLIGHT
TZOFFSETFROM:-0500
TZOFFSETTO:-0400
TZNAME:EDT
DTSTART:20240310T070000
END:DAYLIGHT
BEGIN:STANDARD
TZOFFSETFROM:-0400
TZOFFSETTO:-0500
TZNAME:EST
DTSTART:20241103T060000
END:STANDARD
BEGIN:DAYLIGHT
TZOFFSETFROM:-0500
TZOFFSETTO:-0400
TZNAME:EDT
DTSTART:20250309T070000
END:DAYLIGHT
BEGIN:STANDARD
TZOFFSETFROM:-0400
TZOFFSETTO:-0500
TZNAME:EST
DTSTART:20251102T060000
END:STANDARD
BEGIN:DAYLIGHT
TZOFFSETFROM:-0500
TZOFFSETTO:-0400
TZNAME:EDT
DTSTART:20260308T070000
END:DAYLIGHT
BEGIN:STANDARD
TZOFFSETFROM:-0400
TZOFFSETTO:-0500
TZNAME:EST
DTSTART:20261101T060000
END:STANDARD
END:VTIMEZONE
BEGIN:VEVENT
DTSTART;TZID=America/New_York:20240601T080000
DTEND;TZID=America/New_York:20250126T170000
DTSTAMP:20260423T110430
CREATED:20240611T164121Z
LAST-MODIFIED:20240611T164121Z
UID:10000151-1717228800-1737910800@www.bethlehempa.org
SUMMARY:Checking In Exhibit Now Open
DESCRIPTION:Checking In? Bethlehem’s Alluring Accommodations Exhibit is Now Open! \nThis experience transports guests back nearly three hundred years to various hospitality sites in downtown Bethlehem. This multi-site experience ventures to the Moravian Museum of Bethlehem and the Kemerer Museum of Decorative Arts. Guests will visit sites such as the fictional Moravian Inn\, a reconstruction of the Eagle Hotel\, and the Sun Inn. Along the way\, guests will learn all about the various visitors of Bethlehem\, the importance of hospitality to Bethlehem’s history\, and the roots of these hotels in shaping the United States.  \nThis exhibit offers two ticketing options\, one of which includes a Christmas City Spirits tasting experience and a complimentary tasting glass with a recipe at the conclusion of the tour at the Sun Inn.  \nThe Kemerer Museum and Moravian Museum are open Friday through Sunday\, 11 AM – 5 PM. The Sun Inn is open Wednesday through Saturday\, 12 PM – 9 PM. For ticketing and additional information visit: https://www.historicbethlehem.org/experiences/series/checking-in-bethlehems-alluring-accommodations/#:~:text=Guests%20will%20%E2%80%9Ccheck%2Din%E2%80%9D\,keep%20by%20performing%20several%20tasks.
URL:https://www.bethlehempa.org/event/checking-in-exhibit-now-open/
LOCATION:PA
ATTACH;FMTTYPE=image/png:https://cdn.bethlehempa.org/wp-content/uploads/2024/06/HBMS-Logo_Checking-In-no-colon.png
END:VEVENT
BEGIN:VEVENT
DTSTART;TZID=America/New_York:20240601T090000
DTEND;TZID=America/New_York:20241012T090000
DTSTAMP:20260423T110430
CREATED:20240524T203612Z
LAST-MODIFIED:20240601T153426Z
UID:10000104-1717232400-1728723600@www.bethlehempa.org
SUMMARY:Bethlehem Rose Garden Farmers Market
DESCRIPTION:Join us at the historic Bethlehem Rose Garden Park every Saturday from 9am – 1pm\, June 1 – October 12\, 2024 for the Bethlehem Rose Garden Farmers Market. We are a friendly\, neighborhood market where you will find fresh produce and all kinds of other treats brought to you by our local vendors. We have lots of fun events planned this year so follow us on Facebook for weekly updates! See you at the Market!! \n  \n 
URL:https://www.bethlehempa.org/event/bethlehem-rose-garden-farmers-market/
LOCATION:PA
CATEGORIES:Community Events,Family Fun
ATTACH;FMTTYPE=image/jpeg:https://cdn.bethlehempa.org/wp-content/uploads/2024/05/Farmers-Market-Logo-2.jpg
END:VEVENT
BEGIN:VEVENT
DTSTART;TZID=America/New_York:20240624T083000
DTEND;TZID=America/New_York:20240802T130000
DTSTAMP:20260423T110430
CREATED:20240620T130907Z
LAST-MODIFIED:20240620T130920Z
UID:10000172-1719217800-1722603600@www.bethlehempa.org
SUMMARY:Summer Dance Program
DESCRIPTION:The Ballet Guild’s Summer Dance Program will be held from June 24 through August 2 and includes day classes for the serious pre-professional dancer as well as age-appropriate classes for children and adults. Our classes emphasize the development of ballet skills\, with a focus on knowledge\, proper placement\, and alignment. Students are encouraged to build confidence through accomplishments in dance. \nThe Pre-Professional Division (Monday through Friday days) is designed for the serious dancer ages 9 and up with dance experience and includes ballet\, pointe (where appropriate)\, tap\, Progressing Ballet Technique\, and much more! The Community Division with late afternoon and evening classes offers Pre-Ballet for ages 3 and 4; Youth Ballet for ages 5-12; Adult/Teen Ballet and Pointe for ages 13 & up; Adult/Teen Beginning Ballet; and Progressing Ballet Technique (PBT) for adults/teens! Space is limited in all classes – early enrollment is encouraged! Visit the following page for more information: Summer Dance Program « Ballet Guild of the Lehigh Valley (bglv.org)
URL:https://www.bethlehempa.org/event/summer-dance-program/
LOCATION:Ballet Guild of the Lehigh Valley\, 556 Main Street\, Bethlehem\, PA\, 18018\, United States
CATEGORIES:Summer Events
ATTACH;FMTTYPE=image/jpeg:https://cdn.bethlehempa.org/wp-content/uploads/2024/06/Bg-Group-from-facebook-June-2024.jpg
ORGANIZER;CN="Ballet Guild of the Lehigh Valley":MAILTO:pyb@rcn.com
END:VEVENT
BEGIN:VEVENT
DTSTART;TZID=America/New_York:20240703T080000
DTEND;TZID=America/New_York:20240813T160000
DTSTAMP:20260423T110430
CREATED:20240626T124953Z
LAST-MODIFIED:20240626T124953Z
UID:10000185-1719993600-1723564800@www.bethlehempa.org
SUMMARY:Tim Higgins\, Digital College Exhibition\, "Please Stand By"
DESCRIPTION:Artist Tim Higgins will be exhibiting his digital collage works\, “Please Stand By”\, at the Bethlehem Town Hall Rotunda Gallery from July 3 to August 13\, 2024. There will be an opening reception on Sunday\, July 14 from 2:00 to 4:00 PM. The Rotunda Gallery is located at 10 E. Church Street. Gallery hours are Monday to Friday from 8:00 AM to 4:00 PM. \nThe exhibition is composed of hundreds of collaged images and elements depicting themes from comics\, pulp fiction\, television\, film and everyday life. High Art meets Low Art as Higgins creates new works from material either originally sourced or appropriated from a variety of sources and media. The works are either printed on paper and framed or mounted on glass. \nTim Higgins is a multi-disciplinary artist who has worked in graphics\, painting and short film. He grew up in Allentown\, attended Salisbury High School\, and studied commercial art at Northampton County Community College and fine arts with a concentration in painting at Kutztown University. Higgins has also been a newspaper editor and reporter in the Lehigh Valley as well as a freelance arts writer.
URL:https://www.bethlehempa.org/event/tim-higgins-digital-college-exhibition-please-stand-by/
LOCATION:Bethlehem Town Hall Rotunda Gallery\, 10 East Church Street\, Bethlehem\, PA\, 18018\, United States
ATTACH;FMTTYPE=image/jpeg:https://cdn.bethlehempa.org/wp-content/uploads/2024/06/Higgins-card-.jpg
ORGANIZER;CN="Bethlehem Fine Arts Commission":MAILTO:rbegbie@rcn.com
END:VEVENT
BEGIN:VEVENT
DTSTART;TZID=America/New_York:20240707T110000
DTEND;TZID=America/New_York:20240728T170000
DTSTAMP:20260423T110430
CREATED:20240611T164015Z
LAST-MODIFIED:20240611T164015Z
UID:10000154-1720350000-1722186000@www.bethlehempa.org
SUMMARY:Experience Free Sundays at Historic Bethlehem Museums in July!
DESCRIPTION:HBMS offers free Sundays at the museums from the first Sunday of each month through November. Visitors receive complimentary admission to both the Kemerer Museum of Decorative Arts and the Moravian Museum of Bethlehem from 11 a.m. to 5 p.m.  \nThe July program\, funded by the Jones Children Fund\, features a hands-on activity for the whole family. At the Kemerer Museum\, visitors create a mixed-media flower bouquet on canvas\, and at the Moravian Museum of Bethlehem\, visitors make a colonial-style sweet bag. \nFor additional information\, visit the Free Sundays Page.
URL:https://www.bethlehempa.org/event/experience-free-sundays-at-historic-bethlehem-museums-in-july/
LOCATION:PA
END:VEVENT
BEGIN:VEVENT
DTSTART;TZID=America/New_York:20240709T080000
DTEND;TZID=America/New_York:20240724T180000
DTSTAMP:20260423T110430
CREATED:20240709T185135Z
LAST-MODIFIED:20240709T185135Z
UID:10000218-1720512000-1721844000@www.bethlehempa.org
SUMMARY:July Wine and Read
DESCRIPTION:Join FHV for July Book Club. \nThis month we will be reading Swan Song by Elin Hilderbrand (this can be read as a stand alone but for more fun\, read The Castaways and/or The Rumor first). We will be meeting at the Bethlehem location on Wednesday\, July 24th for the discussion. Ticket purchase includes a sampling of the wine we have chosen to pair with this months book\, a personal snack box\, a glass of your favorite FHV wine and a themed tote. Purchase your copy at the Moravian bookstore for 10% off with proof of your ticket purchase (while supplies last). \nSign up for your spot on eventbrite.
URL:https://www.bethlehempa.org/event/july-wine-and-read/
LOCATION:Franklin Hill Vineyards\, 559 Main Street Suite #124\, Bethlehem\, PA\, 18018\, United States
ATTACH;FMTTYPE=image/png:https://cdn.bethlehempa.org/wp-content/uploads/2024/07/Untitled-design-5.png
ORGANIZER;CN="Franklin Hill Vineyards":MAILTO:Events@franklinhillvineyards.com
END:VEVENT
BEGIN:VEVENT
DTSTART;TZID=America/New_York:20240715T090000
DTEND;TZID=America/New_York:20240719T120000
DTSTAMP:20260423T110430
CREATED:20240625T174532Z
LAST-MODIFIED:20240625T174532Z
UID:10000184-1721034000-1721390400@www.bethlehempa.org
SUMMARY:Comic Book Storytelling Workshop for Kids/Teens
DESCRIPTION:Calling all Super-Fans! Comic book character creation and strange new world-building are at the heart of this Summer Academy workshop with Literary Arts teacher and graphic novelist Scott Beatty\, who has authored hundreds of adventures for many of comics’ most iconic characters including Batman and Robin tales for DC Comics\, as well as The Phantom\, Buck Rogers\, and Sherlock Holmes for Dynamite Entertainment. Beatty has also contributed comic book stories to IDW Publishing\, Dark Horse Comics\, and Crossgen Comics.  You’ll learn about the history of comic books\, how graphic novels are produced\, and then you’ll create the secret origin of your own character and chronicle their first adventure in script and art! Students will get to showcase their creations during a short ‘talk-back’ session\, pitching their work just like comics pros\, with parents and families on the final day of class!  Open to children entering 6th-9th grades (older or younger children may be considered) \nSession Dates:  July 15-19\, 9 AM-12 PM daily.  This workshop is part of the school’s Summer Academy\, a program of arts enrichment workshops that is open to the community.  For registration information\, visit CharterArts.org.
URL:https://www.bethlehempa.org/event/comic-book-storytelling-workshop-for-kids-teens/
LOCATION:Lehigh Valley Charter High School for the Arts\, 321 E 3rd St\, Bethlehem\, PA\, United States
CATEGORIES:Community Events
ATTACH;FMTTYPE=image/png:https://cdn.bethlehempa.org/wp-content/uploads/2024/06/Instagram-Post-I-Really-Love-Comics-Using-A-Heart-Shape-Celebrating-Geeks-and-Comic-Books-Lovers-Blue-Pop-Art.png
ORGANIZER;CN="Lehigh Valley Charter High School for the Arts":MAILTO:communications@charterarts.org
GEO:40.612144;-75.374371
X-APPLE-STRUCTURED-LOCATION;VALUE=URI;X-ADDRESS=Lehigh Valley Charter High School for the Arts 321 E 3rd St Bethlehem PA United States;X-APPLE-RADIUS=500;X-TITLE=321 E 3rd St:geo:-75.374371,40.612144
END:VEVENT
BEGIN:VEVENT
DTSTART;TZID=America/New_York:20240717T073000
DTEND;TZID=America/New_York:20240721T140000
DTSTAMP:20260423T110430
CREATED:20240717T132212Z
LAST-MODIFIED:20240717T132212Z
UID:10000253-1721201400-1721570400@www.bethlehempa.org
SUMMARY:Cinnamon Bun Pancakes Are Back!
DESCRIPTION:SouthSide Summer Restaurant week is here again and we’re bringing back cinnamon bun pancakes!! We will also have vegan cauliflower tacos\, sweet potato quesadilla\, and a veggie wrap!
URL:https://www.bethlehempa.org/event/cinnamon-bun-pancakes-are-back/
LOCATION:Roasted\, 22 W 4th St\, Bethlehem\, PA\, 18015\, United States
ATTACH;FMTTYPE=image/jpeg:https://cdn.bethlehempa.org/wp-content/uploads/2024/07/IMG_5189-scaled.jpg
ORGANIZER;CN="Roasted":MAILTO:roastedbethelehem@gmail.com
END:VEVENT
BEGIN:VEVENT
DTSTART;TZID=America/New_York:20240718T110000
DTEND;TZID=America/New_York:20240718T150000
DTSTAMP:20260423T110430
CREATED:20240711T160253Z
LAST-MODIFIED:20240711T160810Z
UID:10000229-1721300400-1721314800@www.bethlehempa.org
SUMMARY:Bethlehem Farmers' Market
DESCRIPTION:Join us on Thursdays between 11 AM – 3 PM April 25th through November 14th for our 17th season! \nThe Bethlehem Farmers’ Market is Bethlehem’s first and longest-running local\, producer-only farmers market! The market’s 15+ vendors offer fresh produce\, lunch items\, baked goods\, natural goods\, and more to the Bethlehem community and greater Lehigh Valley. \n*Note there will not be a market on June 6th or July 4th.
URL:https://www.bethlehempa.org/event/bethlehem-farmers-market-5/
LOCATION:Bethlehem Farmers’ Market\, 1 Farrington Square\, Bethlehem\, PA\, 18015
CATEGORIES:Community Events,Family Fun,Live Music,Pop Ups,Vendors
ATTACH;FMTTYPE=image/png:https://cdn.bethlehempa.org/wp-content/uploads/2024/07/2024_BFM_LU-Events-Calendar_940x557px.png
ORGANIZER;CN="Bethlehem Farmers' Market":MAILTO:bethlehemfarmersmarket@lehigh.edu
END:VEVENT
BEGIN:VEVENT
DTSTART;TZID=America/New_York:20240718T140000
DTEND;TZID=America/New_York:20240718T160000
DTSTAMP:20260423T110430
CREATED:20240526T163722Z
LAST-MODIFIED:20240717T201120Z
UID:10000105-1721311200-1721318400@www.bethlehempa.org
SUMMARY:Afternoon Tea
DESCRIPTION:Enjoy Tea Time every week with delicious Fresh Brewed Teas\, Finger Sandwiches and Desserts at the Sayre Mansion in Bethlehem.\nReservations Required\, call 610.882.2100
URL:https://www.bethlehempa.org/event/afternoon-tea-12/
LOCATION:The Sayre Mansion\, 250 Wyandotte St.\, Bethlehem\, 18015
CATEGORIES:Special Events
ATTACH;FMTTYPE=image/jpeg:https://cdn.bethlehempa.org/wp-content/uploads/2024/04/Sayre-Afternoon-Tea-Rrtjel.tmp_.jpg
END:VEVENT
BEGIN:VEVENT
DTSTART;TZID=America/New_York:20240718T160000
DTEND;TZID=America/New_York:20240718T210000
DTSTAMP:20260423T110430
CREATED:20240716T192707Z
LAST-MODIFIED:20240717T131621Z
UID:10000252-1721318400-1721336400@www.bethlehempa.org
SUMMARY:Annoni Can Release
DESCRIPTION:This beer was made for someone very special to our Country Club family. John Annoni was a teacher for 35 year and continues to be an amazing advocate for our youth. The things he has done has inspired so many and has changed so many lives. We used large amounts of Citra\, Mosaic\, El Dorado\, and Lemondrop Hops. Proceeds of this beer will be donated to CampCompass.Com\, which John runs.  Thank you John Annoni!
URL:https://www.bethlehempa.org/event/annoni-can-release/
LOCATION:Country Club Brewing\, 323 Pierce Street\, Bethlehem\, 18015\, United States
ATTACH;FMTTYPE=image/png:https://cdn.bethlehempa.org/wp-content/uploads/2024/07/IMG_6738.png
ORGANIZER;CN="Country Club Brewing":MAILTO:info@countryclubbrewing.com
END:VEVENT
END:VCALENDAR