BEGIN:VCALENDAR
VERSION:2.0
PRODID:-//City of Bethlehem - ECPv6.15.20//NONSGML v1.0//EN
CALSCALE:GREGORIAN
METHOD:PUBLISH
X-ORIGINAL-URL:https://www.bethlehempa.org
X-WR-CALDESC:Events for City of Bethlehem
REFRESH-INTERVAL;VALUE=DURATION:PT1H
X-Robots-Tag:noindex
X-PUBLISHED-TTL:PT1H
BEGIN:VTIMEZONE
TZID:America/New_York
BEGIN:DAYLIGHT
TZOFFSETFROM:-0500
TZOFFSETTO:-0400
TZNAME:EDT
DTSTART:20230312T070000
END:DAYLIGHT
BEGIN:STANDARD
TZOFFSETFROM:-0400
TZOFFSETTO:-0500
TZNAME:EST
DTSTART:20231105T060000
END:STANDARD
BEGIN:DAYLIGHT
TZOFFSETFROM:-0500
TZOFFSETTO:-0400
TZNAME:EDT
DTSTART:20240310T070000
END:DAYLIGHT
BEGIN:STANDARD
TZOFFSETFROM:-0400
TZOFFSETTO:-0500
TZNAME:EST
DTSTART:20241103T060000
END:STANDARD
BEGIN:DAYLIGHT
TZOFFSETFROM:-0500
TZOFFSETTO:-0400
TZNAME:EDT
DTSTART:20250309T070000
END:DAYLIGHT
BEGIN:STANDARD
TZOFFSETFROM:-0400
TZOFFSETTO:-0500
TZNAME:EST
DTSTART:20251102T060000
END:STANDARD
BEGIN:DAYLIGHT
TZOFFSETFROM:-0500
TZOFFSETTO:-0400
TZNAME:EDT
DTSTART:20260308T070000
END:DAYLIGHT
BEGIN:STANDARD
TZOFFSETFROM:-0400
TZOFFSETTO:-0500
TZNAME:EST
DTSTART:20261101T060000
END:STANDARD
END:VTIMEZONE
BEGIN:VEVENT
DTSTART;TZID=America/New_York:20240520T080000
DTEND;TZID=America/New_York:20240630T160000
DTSTAMP:20260425T064152
CREATED:20240603T192422Z
LAST-MODIFIED:20240603T192422Z
UID:10000133-1716192000-1719763200@www.bethlehempa.org
SUMMARY:THE BETHLEHEM PALETTE CLUB JURIED EXHIBITION
DESCRIPTION:THE BETHLEHEM PALETTE CLUB JURIED EXHIBITION\nis at the Bethlehem Town Hall Rotunda Gallery\, 10 E. Church Street\, Bethlehem.  EXHIBITION DATES: May 20 through June 30\, 2024. Hours Monday to Friday 8 a.m. to 4 p.m.  RECEPTION: Sunday\, June 30\, 1 p.m – 3  p.m.
URL:https://www.bethlehempa.org/event/the-bethlehem-palette-club-juried-exhibition/
LOCATION:PA
ATTACH;FMTTYPE=image/jpeg:https://cdn.bethlehempa.org/wp-content/uploads/2024/06/BPC-logo-smaller-version-color-Copy.jpg
END:VEVENT
BEGIN:VEVENT
DTSTART;TZID=America/New_York:20240601T080000
DTEND;TZID=America/New_York:20250126T170000
DTSTAMP:20260425T064152
CREATED:20240611T164121Z
LAST-MODIFIED:20240611T164121Z
UID:10000151-1717228800-1737910800@www.bethlehempa.org
SUMMARY:Checking In Exhibit Now Open
DESCRIPTION:Checking In? Bethlehem’s Alluring Accommodations Exhibit is Now Open! \nThis experience transports guests back nearly three hundred years to various hospitality sites in downtown Bethlehem. This multi-site experience ventures to the Moravian Museum of Bethlehem and the Kemerer Museum of Decorative Arts. Guests will visit sites such as the fictional Moravian Inn\, a reconstruction of the Eagle Hotel\, and the Sun Inn. Along the way\, guests will learn all about the various visitors of Bethlehem\, the importance of hospitality to Bethlehem’s history\, and the roots of these hotels in shaping the United States.  \nThis exhibit offers two ticketing options\, one of which includes a Christmas City Spirits tasting experience and a complimentary tasting glass with a recipe at the conclusion of the tour at the Sun Inn.  \nThe Kemerer Museum and Moravian Museum are open Friday through Sunday\, 11 AM – 5 PM. The Sun Inn is open Wednesday through Saturday\, 12 PM – 9 PM. For ticketing and additional information visit: https://www.historicbethlehem.org/experiences/series/checking-in-bethlehems-alluring-accommodations/#:~:text=Guests%20will%20%E2%80%9Ccheck%2Din%E2%80%9D\,keep%20by%20performing%20several%20tasks.
URL:https://www.bethlehempa.org/event/checking-in-exhibit-now-open/
LOCATION:PA
ATTACH;FMTTYPE=image/png:https://cdn.bethlehempa.org/wp-content/uploads/2024/06/HBMS-Logo_Checking-In-no-colon.png
END:VEVENT
BEGIN:VEVENT
DTSTART;TZID=America/New_York:20240601T090000
DTEND;TZID=America/New_York:20241012T090000
DTSTAMP:20260425T064152
CREATED:20240524T203612Z
LAST-MODIFIED:20240601T153426Z
UID:10000104-1717232400-1728723600@www.bethlehempa.org
SUMMARY:Bethlehem Rose Garden Farmers Market
DESCRIPTION:Join us at the historic Bethlehem Rose Garden Park every Saturday from 9am – 1pm\, June 1 – October 12\, 2024 for the Bethlehem Rose Garden Farmers Market. We are a friendly\, neighborhood market where you will find fresh produce and all kinds of other treats brought to you by our local vendors. We have lots of fun events planned this year so follow us on Facebook for weekly updates! See you at the Market!! \n  \n 
URL:https://www.bethlehempa.org/event/bethlehem-rose-garden-farmers-market/
LOCATION:PA
CATEGORIES:Community Events,Family Fun
ATTACH;FMTTYPE=image/jpeg:https://cdn.bethlehempa.org/wp-content/uploads/2024/05/Farmers-Market-Logo-2.jpg
END:VEVENT
BEGIN:VEVENT
DTSTART;TZID=America/New_York:20240604T080000
DTEND;TZID=America/New_York:20240626T180000
DTSTAMP:20260425T064152
CREATED:20240604T173723Z
LAST-MODIFIED:20240604T173723Z
UID:10000142-1717488000-1719424800@www.bethlehempa.org
SUMMARY:Wine and Ready Book Club Tickets now on Sale!
DESCRIPTION:Join FHV for June Book Club. \nThis month we will be reading Funny Story by Emily Henry. We will meet at the Bethlehem location on Wednesday\, June 26th for a discussion. Ticket purchase includes a sampling of the wine we have paired with this months book\, a personal snack box\, a glass of your favorite FHV wine and a wine glass. If you would like to participate you can purchase your copy at the Moravian bookstore for 10% off with proof of your ticket purchase (while supplies last). \nSign up for your spot on eventbrite.
URL:https://www.bethlehempa.org/event/wine-and-ready-book-club-tickets-now-on-sale/
LOCATION:Franklin Hill Vineyards\, 559 Main Street Suite #124\, Bethlehem\, PA\, 18018\, United States
ATTACH;FMTTYPE=image/png:https://cdn.bethlehempa.org/wp-content/uploads/2024/06/Untitled-design-3-1.png
ORGANIZER;CN="Franklin Hill Vineyards":MAILTO:Events@franklinhillvineyards.com
END:VEVENT
BEGIN:VEVENT
DTSTART;TZID=America/New_York:20240607T120000
DTEND;TZID=America/New_York:20240628T130000
DTSTAMP:20260425T064152
CREATED:20240530T124804Z
LAST-MODIFIED:20240530T124804Z
UID:10000114-1717761600-1719579600@www.bethlehempa.org
SUMMARY:Want to tour the 1751 Old Chapel or 1806 Sanctuary of Central Moravian Church?
DESCRIPTION:Old Chapel\, Every Friday (12 – 1 p.m.)  – Starting June 7th!  \nStarting June 7\, the Old Chapel will be open each Friday from 12 – 1 p.m. with a Moravian Daily Text reading at 12:15 p.m. This short daily devotion has been a part of Moravian tradition since 1731.\n\nGuests will be welcomed to visit and learn more about the 1751 Old Chapel\, where George Washington and Benjamin Franklin worshipped and which welcomed local Native Americans as well as German settlers in its early history.   The Chapel is still used for Sunday worship\, memorial services\, weddings and other church events.\n\nSanctuary\, Every Saturday (2 – 4 p.m.) – Starting July 7th! \n The Church Sanctuary\, built from 1803-1806\, will be open for guided tours every Saturday starting in July (July 7th)\, each half hour from 2 – 4 p.m. Guests will be welcomed to take this 45-minute tour of the sanctuary learning more not only about its architectural design\, history of music and worship\, but also the living ministries of Central Moravian Church today. Unique places like the 2nd floor Kleiner Saal will be included on this tour. A suggested donation of $5/person. A gift shop with many unique Moravian items\, as well as books and other gifts will be open.  Guests should enter on the Northeast side of the church\, the door accessible to the church green and Heckewelder Place (closest to Moravian Book store).\n\nGuided tours of the Sanctuary and Old Chapel can also be arranged by contacting the Rev. Josh Follweiler\, Associate Pastor at 610-866-5661 (x.201). A suggested donation of $5/person is requested for these tours. They can be arranged subject to a tour guide and the church’s availability.
URL:https://www.bethlehempa.org/event/want-to-tour-the-1751-old-chapel-or-1806-sanctuary-of-central-moravian-church/
LOCATION:Central Moravian Church\, 418 Main Street\, Bethlehem\, 18018
ATTACH;FMTTYPE=image/jpeg:https://cdn.bethlehempa.org/wp-content/uploads/2024/05/churchchapel2.jpg
END:VEVENT
BEGIN:VEVENT
DTSTART;TZID=America/New_York:20240607T120000
DTEND;TZID=America/New_York:20240628T130000
DTSTAMP:20260425T064152
CREATED:20240604T173617Z
LAST-MODIFIED:20240604T173617Z
UID:10000143-1717761600-1719579600@www.bethlehempa.org
SUMMARY:Free Old Chapel Tours
DESCRIPTION:Starting this Friday\, June 7th\, 12-1 p.m.\, Central is excited to offer a beautiful and simple Moravian tradition of the Moravian Daily Text and an opportunity to welcome you to learn more about the 1751 Old Chapel. Join us this Friday\, or any Friday in June\, for a free tour from 12 – 1 p.m. Daily Text reading is at 12:15 p.m.
URL:https://www.bethlehempa.org/event/free-old-chapel-tours/
LOCATION:Old Chapel\, 412 Heckewelder Place\, Bethlehem\, PA\, 18018
ATTACH;FMTTYPE=image/jpeg:https://cdn.bethlehempa.org/wp-content/uploads/2024/06/Chapel.jpg
ORGANIZER;CN="Central Moravian Church":MAILTO:office@centralmoravianchurch.org
END:VEVENT
BEGIN:VEVENT
DTSTART;TZID=America/New_York:20240611T180000
DTEND;TZID=America/New_York:20240615T210000
DTSTAMP:20260425T064152
CREATED:20240511T153351Z
LAST-MODIFIED:20240615T181757Z
UID:10000066-1718128800-1718485200@www.bethlehempa.org
SUMMARY:SouthSide Film Festival
DESCRIPTION:The 20th annual SouthSide Film Festival will be held on June 11-15\, 2024!\nOur festival brings films and filmmakers from around the country and around the world to Bethlehem’s South Side! Join us for independent films and shorts of all genres. We host multiple screenings every night at three different venues all over the South Side.\nVisit Deja Brew Coffee Shop and Deli\, the Official SSFF Headquarters\, for all your festival questions\, tickets\, passes\, schedule\, etc.\nDeja Brew101 West 4th StreetBethlehem\, PA 18015610-865-2739
URL:https://www.bethlehempa.org/event/southside-film-festival/
LOCATION:SouthSide\, 2 Bethlehem Ln\, Bethlehem\, CT\, United States
CATEGORIES:Arts & Culture
ATTACH;FMTTYPE=image/jpeg:https://cdn.bethlehempa.org/wp-content/uploads/2024/05/Poster-82S8YA.tmp_.jpg
ORGANIZER;CN="SouthSide Film Institute":MAILTO:southsidefilminstitute@gmail.com
GEO:41.653109;-73.206073
X-APPLE-STRUCTURED-LOCATION;VALUE=URI;X-ADDRESS=SouthSide 2 Bethlehem Ln Bethlehem CT United States;X-APPLE-RADIUS=500;X-TITLE=2 Bethlehem Ln:geo:-73.206073,41.653109
END:VEVENT
END:VCALENDAR