BEGIN:VCALENDAR
VERSION:2.0
PRODID:-//City of Bethlehem - ECPv6.15.20//NONSGML v1.0//EN
CALSCALE:GREGORIAN
METHOD:PUBLISH
X-WR-CALNAME:City of Bethlehem
X-ORIGINAL-URL:https://www.bethlehempa.org
X-WR-CALDESC:Events for City of Bethlehem
REFRESH-INTERVAL;VALUE=DURATION:PT1H
X-Robots-Tag:noindex
X-PUBLISHED-TTL:PT1H
BEGIN:VTIMEZONE
TZID:America/New_York
BEGIN:DAYLIGHT
TZOFFSETFROM:-0500
TZOFFSETTO:-0400
TZNAME:EDT
DTSTART:20230312T070000
END:DAYLIGHT
BEGIN:STANDARD
TZOFFSETFROM:-0400
TZOFFSETTO:-0500
TZNAME:EST
DTSTART:20231105T060000
END:STANDARD
BEGIN:DAYLIGHT
TZOFFSETFROM:-0500
TZOFFSETTO:-0400
TZNAME:EDT
DTSTART:20240310T070000
END:DAYLIGHT
BEGIN:STANDARD
TZOFFSETFROM:-0400
TZOFFSETTO:-0500
TZNAME:EST
DTSTART:20241103T060000
END:STANDARD
BEGIN:DAYLIGHT
TZOFFSETFROM:-0500
TZOFFSETTO:-0400
TZNAME:EDT
DTSTART:20250309T070000
END:DAYLIGHT
BEGIN:STANDARD
TZOFFSETFROM:-0400
TZOFFSETTO:-0500
TZNAME:EST
DTSTART:20251102T060000
END:STANDARD
END:VTIMEZONE
BEGIN:VEVENT
DTSTART;TZID=America/New_York:20240520T080000
DTEND;TZID=America/New_York:20240630T160000
DTSTAMP:20260423T142735
CREATED:20240603T192422Z
LAST-MODIFIED:20240603T192422Z
UID:10000133-1716192000-1719763200@www.bethlehempa.org
SUMMARY:THE BETHLEHEM PALETTE CLUB JURIED EXHIBITION
DESCRIPTION:THE BETHLEHEM PALETTE CLUB JURIED EXHIBITION\nis at the Bethlehem Town Hall Rotunda Gallery\, 10 E. Church Street\, Bethlehem.  EXHIBITION DATES: May 20 through June 30\, 2024. Hours Monday to Friday 8 a.m. to 4 p.m.  RECEPTION: Sunday\, June 30\, 1 p.m – 3  p.m.
URL:https://www.bethlehempa.org/event/the-bethlehem-palette-club-juried-exhibition/
LOCATION:PA
ATTACH;FMTTYPE=image/jpeg:https://cdn.bethlehempa.org/wp-content/uploads/2024/06/BPC-logo-smaller-version-color-Copy.jpg
END:VEVENT
BEGIN:VEVENT
DTSTART;TZID=America/New_York:20240529T120000
DTEND;TZID=America/New_York:20240609T200000
DTSTAMP:20260423T142735
CREATED:20240530T124346Z
LAST-MODIFIED:20240530T124346Z
UID:10000111-1716984000-1717963200@www.bethlehempa.org
SUMMARY:Slushy Season Is Back
DESCRIPTION:You can now treat yourself to wine slushies at both of our locations! Stop by and see what sweet treat we have for you this week!
URL:https://www.bethlehempa.org/event/slushy-season-is-back/
LOCATION:Franklin Hill Vineyards\, 559 Main Street Suite #124\, Bethlehem\, PA\, 18018\, United States
ATTACH;FMTTYPE=image/jpeg:https://cdn.bethlehempa.org/wp-content/uploads/2024/05/438087319_18351370474101128_3751649492020165644_n.jpg
ORGANIZER;CN="Franklin Hill Vineyards":MAILTO:Events@franklinhillvineyards.com
END:VEVENT
BEGIN:VEVENT
DTSTART;TZID=America/New_York:20240530T140000
DTEND;TZID=America/New_York:20240530T160000
DTSTAMP:20260423T142735
CREATED:20240426T141249Z
LAST-MODIFIED:20240530T170549Z
UID:10000047-1717077600-1717084800@www.bethlehempa.org
SUMMARY:Afternoon Tea
DESCRIPTION:Enjoy Tea Time every week with delicious Fresh Brewed Teas\, Finger Sandwiches and Desserts at the Sayre Mansion in Bethlehem.\nReservations Required\, call 610.882.2100
URL:https://www.bethlehempa.org/event/afternoon-tea-5/
LOCATION:The Sayre Mansion\, 250 Wyandotte St.\, Bethlehem\, 18015
CATEGORIES:Special Events
ATTACH;FMTTYPE=image/jpeg:https://cdn.bethlehempa.org/wp-content/uploads/2024/04/Sayre-Afternoon-Tea-Rrtjel.tmp_.jpg
END:VEVENT
BEGIN:VEVENT
DTSTART;TZID=America/New_York:20240530T190000
DTEND;TZID=America/New_York:20240530T210000
DTSTAMP:20260423T142735
CREATED:20240530T124231Z
LAST-MODIFIED:20240530T124231Z
UID:10000110-1717095600-1717102800@www.bethlehempa.org
SUMMARY:Spring Piano Recital- LV Charter High School for the Arts
DESCRIPTION:The acclaimed Lehigh Valley Charter High School for the Arts (Charter Arts) Music Department presents its Spring Piano Recital featuring performances by students of all grade levels.  Tickets are $6 General Admission and are available online at CharterArts.org or at the door. \nABOUT THE CHARTER ARTS MUSIC CURRICULUM:\nInstrumental Music and Vocal Music are two distinct departments at Charter Arts. However\, some of the courses are required of both majors while others are department-specific. Both departments offer a rigorous music education taught by award-winning and accomplished faculty.\n\n\nThe vocal music curriculum includes tracks in classical art song\, musical theatre\, and pop/contemporary that allow students to focus and hone their skills with one-on-one instruction by professional voice specialists.  In addition\, the Singer/Songwriter track includes Songwriting\, Music Production and Contemporary Music Performance Practices. \nThe instrumental music curriculum includes classes in classical\, jazz\, and contemporary music styles while performing in large ensembles that include Orchestra\, Jazz Ensemble\, Wind Ensemble and Contemporary Music Ensemble as well as small ensembles that include strings\, guitar and percussion.  Students enjoy individual and small setting technique classes with a music faculty member who specializes in their instrument. These specialists include bass (electric and upright)\, brass\, guitar\, percussion\, piano\, strings\, and woodwinds. \n\nABOUT THE LEHIGH VALLEY CHARTER HIGH SCHOOL FOR THE ARTS:\n\n\nCharter Arts is an audition-based public charter school that provides a comprehensive curriculum for high school students\, grades 9-12\, who have a passion for the arts.   Students major in one of seven artistic areas: dance\, instrumental music\, literary arts\, production arts\, theatre\, visual arts\, or vocal music. \nCharter Arts’ rigorous curriculum fosters both academic and artistic excellence for its students. The school’s impressive Future Ready PA Index ranking\, Advanced Placement (AP) exam statistics\, Keystone Exam statistics\, SAT scores\, prestigious artistic accolades\, and graduation rate\, are testaments to the outstanding education that Charter Arts provides. \nRecently\, Charter Arts was ranked #1 Best Charter High School in PA and  #2 Best Public High School Teachers in PA on Niche’s 2024 Best Schools in America Rankings.  In addition\, Charter Arts was one of only four Lehigh Valley schools to be ranked in the Top 100 Public High Schools in PA on U.S. News & World Report’s 2024 Best Schools in America. \n\n\nAudition appointments for the 2024-2025 school year are being accepted now.  For more information or to attend an upcoming Virtual Information Session\, visit www.CharterArts.org. \nCharter Arts is located at 321 East 3rd Street\, Bethlehem PA 18015. \n\n\n  \n 
URL:https://www.bethlehempa.org/event/spring-piano-recital-lv-charter-high-school-for-the-arts/
LOCATION:Lehigh Valley Charter High School for the Arts\, 321 E 3rd St\, Bethlehem\, PA\, United States
CATEGORIES:Arts & Culture
ATTACH;FMTTYPE=image/png:https://cdn.bethlehempa.org/wp-content/uploads/2024/05/May-30-Piano-Recital-2.png
GEO:40.612144;-75.374371
X-APPLE-STRUCTURED-LOCATION;VALUE=URI;X-ADDRESS=Lehigh Valley Charter High School for the Arts 321 E 3rd St Bethlehem PA United States;X-APPLE-RADIUS=500;X-TITLE=321 E 3rd St:geo:-75.374371,40.612144
END:VEVENT
END:VCALENDAR