BEGIN:VCALENDAR
VERSION:2.0
PRODID:-//City of Bethlehem - ECPv6.15.20//NONSGML v1.0//EN
CALSCALE:GREGORIAN
METHOD:PUBLISH
X-ORIGINAL-URL:https://www.bethlehempa.org
X-WR-CALDESC:Events for City of Bethlehem
REFRESH-INTERVAL;VALUE=DURATION:PT1H
X-Robots-Tag:noindex
X-PUBLISHED-TTL:PT1H
BEGIN:VTIMEZONE
TZID:America/New_York
BEGIN:DAYLIGHT
TZOFFSETFROM:-0500
TZOFFSETTO:-0400
TZNAME:EDT
DTSTART:20230312T070000
END:DAYLIGHT
BEGIN:STANDARD
TZOFFSETFROM:-0400
TZOFFSETTO:-0500
TZNAME:EST
DTSTART:20231105T060000
END:STANDARD
BEGIN:DAYLIGHT
TZOFFSETFROM:-0500
TZOFFSETTO:-0400
TZNAME:EDT
DTSTART:20240310T070000
END:DAYLIGHT
BEGIN:STANDARD
TZOFFSETFROM:-0400
TZOFFSETTO:-0500
TZNAME:EST
DTSTART:20241103T060000
END:STANDARD
BEGIN:DAYLIGHT
TZOFFSETFROM:-0500
TZOFFSETTO:-0400
TZNAME:EDT
DTSTART:20250309T070000
END:DAYLIGHT
BEGIN:STANDARD
TZOFFSETFROM:-0400
TZOFFSETTO:-0500
TZNAME:EST
DTSTART:20251102T060000
END:STANDARD
END:VTIMEZONE
BEGIN:VEVENT
DTSTART;VALUE=DATE:20240518
DTEND;VALUE=DATE:20240519
DTSTAMP:20260425T082545
CREATED:20240424T193955Z
LAST-MODIFIED:20240518T154935Z
UID:10000022-1715990400-1716076799@www.bethlehempa.org
SUMMARY:F&A GROG HOUSE PREMIER LEAGUE SOCCER WATCH PARTY EVERY SATURDAY AND SUNDAY
DESCRIPTION:Attention\, Premier League fanatics and watch party enthusiasts\, buckle up for the ultimate premier league experience right here in the heart of Lehigh Valley – F&A Grog House is the place to catch all the action! 🎉🏆\nGet ready to kick off your weekends with a bang because our doors swing open at 10:00 AM on Saturdays and an even earlier 9:00 AM on action-packed Sundays! 🕘⚽\nBut hold on to your hats\, folks\, because we’ve got the BEST deal in town – Guinness Drafts\, for an unbeatable $6.00 a pint during the heart-pounding games! 🍻🍻\nOh\, and the excitement doesn’t stop there – we’ve got breakfast on the menu\, starting at 10:00 AM on both days! No more excuses to miss the early morning games when you’ve got F&A fueling your energy! 🥓🍳\nLeave your worries at the door and join the roaring crowd of die-hard fans – F&A Grog House is THE go-to spot to catch every single moment of the premier league action. From nail-biting rivalries to jaw-dropping goals\, we’ve got it all\, and we’ve got it BIG! 🔥⚽🔥\nSo grab your friends\, throw on your team’s colors\, and head over to F&A\, where passion meets camaraderie\, and where champions are crowned! 🏆🎊 It is always a great day at F&A!
URL:https://www.bethlehempa.org/event/fa-grog-house-premier-league-soccer-watch-party-every-saturday-and-sunday-8/
LOCATION:PA
CATEGORIES:Special Events
ATTACH;FMTTYPE=image/jpeg:https://cdn.bethlehempa.org/wp-content/uploads/2024/04/fandagrog-wZn8uV.tmp_.jpg
END:VEVENT
BEGIN:VEVENT
DTSTART;VALUE=DATE:20240518
DTEND;VALUE=DATE:20240519
DTSTAMP:20260425T082545
CREATED:20240516T142537Z
LAST-MODIFIED:20240516T142537Z
UID:10000074-1715990400-1716076799@www.bethlehempa.org
SUMMARY:Greenway Pride Cocktail Special
DESCRIPTION:Stop into Social Still THIS Saturday\, 5/18 and enjoy our refreshing Fusion of Love cocktail special\, featuring Social Still Vodka\, Lime\, Ginger Ale & Concord Grape Syrup. A portion of proceeds made from Fusion of Love cocktail sales will be donated to Greenway Pride’s chosen 2024 organizations: Bradbury Sullivan Center & PA Trans Equity Project!
URL:https://www.bethlehempa.org/event/greenway-pride-cocktail-special/
LOCATION:Social Still Distillery\, 530 E 3rd St\, Bethlehem\, PA\, United States
CATEGORIES:Greenway
ATTACH;FMTTYPE=image/jpeg:https://cdn.bethlehempa.org/wp-content/uploads/2024/05/IMG_0391.jpg
ORGANIZER;CN="Social Still Distillery":MAILTO:getsocial@socialstill.com
GEO:40.612071;-75.371693
X-APPLE-STRUCTURED-LOCATION;VALUE=URI;X-ADDRESS=Social Still Distillery 530 E 3rd St Bethlehem PA United States;X-APPLE-RADIUS=500;X-TITLE=530 E 3rd St:geo:-75.371693,40.612071
END:VEVENT
BEGIN:VEVENT
DTSTART;TZID=America/New_York:20240518T070000
DTEND;TZID=America/New_York:20240518T160000
DTSTAMP:20260425T082545
CREATED:20240516T143731Z
LAST-MODIFIED:20240516T144216Z
UID:10000076-1716015600-1716048000@www.bethlehempa.org
SUMMARY:Spring Cleaning Sale at First Presbyterian Church of Bethlehem
DESCRIPTION:We’re cleaning out – and that means big bargains for you!\nWe’ll offer a wide assortment of “everything” – furniture (for home and office)\, kitchen items\, crafting and building supplies\, desk/office items\, and much else.\nOur neighbors at Kirkland Village will also be hosting a big Community Sale\, so plan to stop by both for all the good shopping!\nThe sale will be located in the church building’s gym (Kirk Center) – watch for the signs. Cash and carry.
URL:https://www.bethlehempa.org/event/spring-cleaning-sale-at-first-presbyterian-church-of-bethlehem/
LOCATION:first presbyterian church of bethlehem\, 2344 Center St.\, Bethlehem\, PA\, 18017\, United States
CATEGORIES:Community Events
ATTACH;FMTTYPE=image/jpeg:https://cdn.bethlehempa.org/wp-content/uploads/2024/05/438089446_1362161121222398_4945933403113754381_n.jpg
ORGANIZER;CN="First Presbyterian Church of Bethlehem":MAILTO:caroljburns@gmail.com
END:VEVENT
BEGIN:VEVENT
DTSTART;TZID=America/New_York:20240518T100000
DTEND;TZID=America/New_York:20240518T140000
DTSTAMP:20260425T082545
CREATED:20240510T153350Z
LAST-MODIFIED:20240518T154935Z
UID:10000065-1716026400-1716040800@www.bethlehempa.org
SUMMARY:Oasis: A Wellness Experience at The Yoga Loft Bethlehem
DESCRIPTION:Join The Yoga Loft and local health & wellness businesses for this one-of-a-kind event! This is not your typical wellness expo\, but an immersive experience designed to nourish your mind\, body\, and spirit. You’ll feel rejuvenated and relaxed after participating in classes\, seminars\, and mini wellness sessions\, and you will go home with a tote bag full of resources and guidance to continue your wellness journey.\nAt “Oasis: A Wellness Experience”\, we offer a diverse array of activities and workshops that embrace a holistic approach to health. From invigorating yoga sessions to insightful mindfulness practices\, nutritional guidance\, sound therapy\, and more\, our event is a celebration of all-encompassing wellness.\nEngage with expert speakers and local businesses\, explore natural and holistic therapies\, and connect with like-minded individuals on a journey to elevate your overall health and happiness. Join us in fostering a community of well-being\, where every element is thoughtfully curated to inspire balance\, vitality\, and a renewed sense of self.\nEvent registration includes:\nMeet dozens of local wellness businesses & service providers\n1-hour all levels community yoga class (10-11am)\nMini workshops & sessions offered by local wellness experts (event schedule TBA soon!)\nTake-home tote bag full of additional health & wellness tools and resources (while supplies last)\nHealthy snack and tea samples\nAdditional wellness services and products will be available for purchase.\nParticipating Vendors Include:\nBen Zaboy Massage\,\nBrown Skin Plant Mama\nEat Well Collective\nEquine Alliance for Transformation & Healing\nHippie Momma’s Apothecary\nMama Nicca’s Homemade Things\nPatched Light\nReiki Riss\nReset Outdoors\nA Third Eye Energy Arts\nUB Well Center for Holistic Health\nThe Yoga Loft\nMiss Melanie Yoga\nSimplici Tea & Co\n….and LOTS MORE!!\n \nRegistration: $20 per person at https://theyogaloftofbethlehem.com/special-events/\n***First 25 people to register will receive a FREE Yoga Loft tote bag with a healthy cookbook & additional wellness resources inside!! Sign up today!***
URL:https://www.bethlehempa.org/event/oasis-a-wellness-experience-at-the-yoga-loft-bethlehem/
LOCATION:The Yoga Loft\, 521 E 4th St 3rd fl\, Bethlehem\, 18015
CATEGORIES:Community Events,Special Events
ATTACH;FMTTYPE=image/png:https://cdn.bethlehempa.org/wp-content/uploads/2024/05/Oasis-7xbw7p.tmp_.png
END:VEVENT
BEGIN:VEVENT
DTSTART;TZID=America/New_York:20240518T130000
DTEND;TZID=America/New_York:20240518T143000
DTSTAMP:20260425T082545
CREATED:20240508T152653Z
LAST-MODIFIED:20240518T154936Z
UID:10000062-1716037200-1716042600@www.bethlehempa.org
SUMMARY:LUAG Community Workshop: Eco Art Print and Cardmaking
DESCRIPTION:Show Mother Earth you care as you create an environmentally friendly collagraph print using upcycled materials with Lehigh professor and artist educator Kayla Gibbons. Create a series of cards or prints to gift to important people in your life or to keep for yourself!\nAdvanced registration is encouraged but not required. Register here.\nIf you require assistance to fill out this form or prefer to share your registration information via email or phone\, please email ejs421@lehigh.edu or call 610-758-6882. Questions\, concerns\, and any accessibility needs can also be directed to Elise at ejs421@lehigh.edu or call 610-758-6882.\nLUAG Community Days offer opportunities to drop-in to the galleries to explore great works of art from the LUAG collection and current exhibitions through conversation\, hands-on projects\, and sketching. Geared to children ages 4 to 94 and their adult companions.
URL:https://www.bethlehempa.org/event/luag-community-workshop-eco-art-print-and-cardmaking-2/
LOCATION:Lehigh University Art Galleries\, 420 E Packer Ave\, Bethlehem\, PA\, 18015\, United States
CATEGORIES:Arts & Culture
ATTACH;FMTTYPE=image/jpeg:https://cdn.bethlehempa.org/wp-content/uploads/2024/05/img2362-1-rotated-UYEK9Y.tmp_.jpg
ORGANIZER;CN="Lehigh University Art Galleries":MAILTO:luag@lehigh.edu
END:VEVENT
BEGIN:VEVENT
DTSTART;TZID=America/New_York:20240518T160000
DTEND;TZID=America/New_York:20240518T180000
DTSTAMP:20260425T082545
CREATED:20240516T145222Z
LAST-MODIFIED:20240516T145222Z
UID:10000082-1716048000-1716055200@www.bethlehempa.org
SUMMARY:Chivalrous Crickets – May Pole
DESCRIPTION:Tickets: $25 / $10 (6-21) / Free (under 6 years old) \nWelcome the spring and usher in the coming summer with The Chivalrous Crickets as they celebrate the season\, Celtic Festival-style. The Crickets combine ancient old world and newly-created customs to create a rollicking May Day (aka Beltane) experience for the whole family. Centered around a concert of spring-associated folk music\, expect sing-along May Day carols\, children’s games\, a lottery to crown the May Queen and King\, a historic (condensed) Robin Hood Play\, poetry\, garland making in the lobby\, refreshments\, and MAY POLE DANCE! Wear your ribbons\, your favorite festive spring attire\, and join the Crickets in the magical Greenwood for song\, dance\, ritual and play! \nDoors open 3:30pm: Lobby activities (May Bush ribbon tying\, head wreath making\, face painting\, photo op in the “Greenwood”) \nShow & May Pole: 4pm – 6pm \nTicket holders receive $20% off at Donegal Square on May 18 and May 19. The audience is encouraged to join us at The Red Stag Pub after the event for dinner and a drink! The bar will feature a cocktail created for May Day called “The Beltane”.
URL:https://www.bethlehempa.org/event/chivalrous-crickets-may-pole/
LOCATION:PA
CATEGORIES:Arts & Culture,Community Events,Family Fun,Live Music
ATTACH;FMTTYPE=image/jpeg:https://cdn.bethlehempa.org/wp-content/uploads/2024/05/May-20.jpeg
END:VEVENT
END:VCALENDAR