BEGIN:VCALENDAR
VERSION:2.0
PRODID:-//City of Bethlehem - ECPv6.15.20//NONSGML v1.0//EN
CALSCALE:GREGORIAN
METHOD:PUBLISH
X-WR-CALNAME:City of Bethlehem
X-ORIGINAL-URL:https://www.bethlehempa.org
X-WR-CALDESC:Events for City of Bethlehem
REFRESH-INTERVAL;VALUE=DURATION:PT1H
X-Robots-Tag:noindex
X-PUBLISHED-TTL:PT1H
BEGIN:VTIMEZONE
TZID:America/New_York
BEGIN:DAYLIGHT
TZOFFSETFROM:-0500
TZOFFSETTO:-0400
TZNAME:EDT
DTSTART:20230312T070000
END:DAYLIGHT
BEGIN:STANDARD
TZOFFSETFROM:-0400
TZOFFSETTO:-0500
TZNAME:EST
DTSTART:20231105T060000
END:STANDARD
BEGIN:DAYLIGHT
TZOFFSETFROM:-0500
TZOFFSETTO:-0400
TZNAME:EDT
DTSTART:20240310T070000
END:DAYLIGHT
BEGIN:STANDARD
TZOFFSETFROM:-0400
TZOFFSETTO:-0500
TZNAME:EST
DTSTART:20241103T060000
END:STANDARD
BEGIN:DAYLIGHT
TZOFFSETFROM:-0500
TZOFFSETTO:-0400
TZNAME:EDT
DTSTART:20250309T070000
END:DAYLIGHT
BEGIN:STANDARD
TZOFFSETFROM:-0400
TZOFFSETTO:-0500
TZNAME:EST
DTSTART:20251102T060000
END:STANDARD
END:VTIMEZONE
BEGIN:VEVENT
DTSTART;VALUE=DATE:20240509
DTEND;VALUE=DATE:20240510
DTSTAMP:20260423T162148
CREATED:20240501T124639Z
LAST-MODIFIED:20240509T153550Z
UID:10000053-1715212800-1715299199@www.bethlehempa.org
SUMMARY:The Veil Brewing Co. Spotlight @ F&A Grog House
DESCRIPTION:Join us for The Veil Brewing Co. Spotlight where we will have flights of 4 craft beers! Also\, hang out for happy hour from 4-6pm to save $2 on full pours!\nBe sure to follow us on UnTapped for our full\, up-to-date beer list!\nCHEERS!
URL:https://www.bethlehempa.org/event/the-veil-brewing-co-spotlight-fa-grog-house/
LOCATION:SouthSide\, Bethlhem\, United States
ATTACH;FMTTYPE=image/png:https://cdn.bethlehempa.org/wp-content/uploads/2024/05/5-1-2WAu6u.tmp_.png
END:VEVENT
BEGIN:VEVENT
DTSTART;TZID=America/New_York:20240509T140000
DTEND;TZID=America/New_York:20240509T160000
DTSTAMP:20260423T162148
CREATED:20240426T141233Z
LAST-MODIFIED:20240509T153551Z
UID:10000044-1715263200-1715270400@www.bethlehempa.org
SUMMARY:Afternoon Tea
DESCRIPTION:Enjoy Tea Time every week with delicious Fresh Brewed Teas\, Finger Sandwiches and Desserts at the Sayre Mansion in Bethlehem.\nReservations Required\, call 610.882.2100
URL:https://www.bethlehempa.org/event/afternoon-tea-2/
LOCATION:The Sayre Mansion\, 250 Wyandotte St.\, Bethlehem\, 18015
CATEGORIES:Special Events
ATTACH;FMTTYPE=image/jpeg:https://cdn.bethlehempa.org/wp-content/uploads/2024/04/Sayre-Afternoon-Tea-Rrtjel.tmp_.jpg
END:VEVENT
END:VCALENDAR